BEGIN:VCALENDAR
VERSION:2.0
PRODID:-//Ottawa, IL - The Middle of Everywhere - ECPv6.15.20//NONSGML v1.0//EN
CALSCALE:GREGORIAN
METHOD:PUBLISH
X-ORIGINAL-URL:https://www.visitottawail.com
X-WR-CALDESC:Events for Ottawa, IL - The Middle of Everywhere
REFRESH-INTERVAL;VALUE=DURATION:PT1H
X-Robots-Tag:noindex
X-PUBLISHED-TTL:PT1H
BEGIN:VTIMEZONE
TZID:America/Chicago
BEGIN:DAYLIGHT
TZOFFSETFROM:-0600
TZOFFSETTO:-0500
TZNAME:CDT
DTSTART:20250309T080000
END:DAYLIGHT
BEGIN:STANDARD
TZOFFSETFROM:-0500
TZOFFSETTO:-0600
TZNAME:CST
DTSTART:20251102T070000
END:STANDARD
BEGIN:DAYLIGHT
TZOFFSETFROM:-0600
TZOFFSETTO:-0500
TZNAME:CDT
DTSTART:20260308T080000
END:DAYLIGHT
BEGIN:STANDARD
TZOFFSETFROM:-0500
TZOFFSETTO:-0600
TZNAME:CST
DTSTART:20261101T070000
END:STANDARD
BEGIN:DAYLIGHT
TZOFFSETFROM:-0600
TZOFFSETTO:-0500
TZNAME:CDT
DTSTART:20270314T080000
END:DAYLIGHT
BEGIN:STANDARD
TZOFFSETFROM:-0500
TZOFFSETTO:-0600
TZNAME:CST
DTSTART:20271107T070000
END:STANDARD
END:VTIMEZONE
BEGIN:VEVENT
DTSTART;TZID=America/Chicago:20260919T070000
DTEND;TZID=America/Chicago:20260919T093000
DTSTAMP:20260420T062252
CREATED:20260223T150204Z
LAST-MODIFIED:20260223T150204Z
UID:10001776-1789801200-1789810200@www.visitottawail.com
SUMMARY:Runway to a Cure 5k
DESCRIPTION:The 5K will take place on Skydive Chicago’s runway.  Skydive is also offering a survivor lap at no charge.  Families are welcome to walk/run. \n  \nAll proceeds are going towards the Northwest Hospital Cancer Research Fund. \n  \n \nSkydive Chicago is also looking for a few sponsors to help with water stations and the timing system.
URL:https://www.visitottawail.com/event/runway-to-a-cure-5k/
LOCATION:Skydive Chicago\, 3215 E. 1969th Road\, Ottawa\, IL\, 61350\, United States
CATEGORIES:Family,Get Involved,Outdoor,Sports
ATTACH;FMTTYPE=image/png:https://www.visitottawail.com/wp-content/uploads/2026/02/ChatGPT-Image-Feb-22-2026-07_12_08-PM.png
END:VEVENT
END:VCALENDAR