BEGIN:VCALENDAR
VERSION:2.0
PRODID:-//Ottawa, IL - The Middle of Everywhere - ECPv6.15.20//NONSGML v1.0//EN
CALSCALE:GREGORIAN
METHOD:PUBLISH
X-WR-CALNAME:Ottawa, IL - The Middle of Everywhere
X-ORIGINAL-URL:https://www.visitottawail.com
X-WR-CALDESC:Events for Ottawa, IL - The Middle of Everywhere
REFRESH-INTERVAL;VALUE=DURATION:PT1H
X-Robots-Tag:noindex
X-PUBLISHED-TTL:PT1H
BEGIN:VTIMEZONE
TZID:America/Chicago
BEGIN:DAYLIGHT
TZOFFSETFROM:-0600
TZOFFSETTO:-0500
TZNAME:CDT
DTSTART:20250309T080000
END:DAYLIGHT
BEGIN:STANDARD
TZOFFSETFROM:-0500
TZOFFSETTO:-0600
TZNAME:CST
DTSTART:20251102T070000
END:STANDARD
BEGIN:DAYLIGHT
TZOFFSETFROM:-0600
TZOFFSETTO:-0500
TZNAME:CDT
DTSTART:20260308T080000
END:DAYLIGHT
BEGIN:STANDARD
TZOFFSETFROM:-0500
TZOFFSETTO:-0600
TZNAME:CST
DTSTART:20261101T070000
END:STANDARD
BEGIN:DAYLIGHT
TZOFFSETFROM:-0600
TZOFFSETTO:-0500
TZNAME:CDT
DTSTART:20270314T080000
END:DAYLIGHT
BEGIN:STANDARD
TZOFFSETFROM:-0500
TZOFFSETTO:-0600
TZNAME:CST
DTSTART:20271107T070000
END:STANDARD
END:VTIMEZONE
BEGIN:VEVENT
DTSTART;TZID=America/Chicago:20260326T180000
DTEND;TZID=America/Chicago:20260326T190000
DTSTAMP:20260425T150712
CREATED:20260302T194121Z
LAST-MODIFIED:20260302T194121Z
UID:10001839-1774548000-1774551600@www.visitottawail.com
SUMMARY:Food for Thought Book Club: Skinnytaste Simple by Gina Homolka
DESCRIPTION:New members are always welcome. Participants wil be asked to make a recipe out of the cookbook prior to each meeting and share their opinion of the results. Cookbooks will be available for check out from the library.
URL:https://www.visitottawail.com/event/food-for-thought-book-club-skinnytaste-simple-by-gina-homolka/
LOCATION:Reddick Public Library\, 1010 Canal Street\, Ottawa\, IL\, 61350\, United States
CATEGORIES:Entertainment
ATTACH;FMTTYPE=image/jpeg:https://www.visitottawail.com/wp-content/uploads/2024/04/reddick-library-adult-books-scaled-1.jpeg
END:VEVENT
BEGIN:VEVENT
DTSTART;TZID=America/Chicago:20260326T163000
DTEND;TZID=America/Chicago:20260326T171500
DTSTAMP:20260425T150712
CREATED:20260302T173545Z
LAST-MODIFIED:20260302T173545Z
UID:10001830-1774542600-1774545300@www.visitottawail.com
SUMMARY:Kid's Book Club (Grades K-3)
DESCRIPTION:At this month’s book club we will be discussing the book\, Secret Pizza Party by Adam Rubin and will make a craft that will go along with the story. Copies of the book will be available for check out in the Children’s Dept.
URL:https://www.visitottawail.com/event/kids-book-club-grades-k-3-2/
LOCATION:Reddick Public Library\, 1010 Canal Street\, Ottawa\, IL\, 61350\, United States
CATEGORIES:Entertainment
ATTACH;FMTTYPE=image/jpeg:https://www.visitottawail.com/wp-content/uploads/2024/04/reddick-library-childrens-books-scaled-1.jpeg
END:VEVENT
BEGIN:VEVENT
DTSTART;TZID=America/Chicago:20260325T163000
DTEND;TZID=America/Chicago:20260325T173000
DTSTAMP:20260425T150712
CREATED:20260302T193720Z
LAST-MODIFIED:20260302T193720Z
UID:10001838-1774456200-1774459800@www.visitottawail.com
SUMMARY:Afternoon Tea and Tolkien
DESCRIPTION:Whether it’s your first visit to the Shire\, or you’re a regular guest at second breakfast\, celebrate National Tolkien Reading Day with tea\, treats\, and your favorite J.R.R. Tolkien tales.
URL:https://www.visitottawail.com/event/afternoon-tea-and-tolkien/
LOCATION:Reddick Public Library\, 1010 Canal Street\, Ottawa\, IL\, 61350\, United States
CATEGORIES:Entertainment
ATTACH;FMTTYPE=image/jpeg:https://www.visitottawail.com/wp-content/uploads/2024/04/reddick-library-adult-books-scaled-1.jpeg
END:VEVENT
BEGIN:VEVENT
DTSTART;TZID=America/Chicago:20260325T100000
DTEND;TZID=America/Chicago:20260325T104500
DTSTAMP:20260425T150712
CREATED:20260302T165537Z
LAST-MODIFIED:20260302T165537Z
UID:10001793-1774432800-1774435500@www.visitottawail.com
SUMMARY:Shake\, Rattle\, Read!
DESCRIPTION:Join us every Wednesday for stories\, songs\, and a craft. Find each week’s theme on the event calendar on our website. Stay and play after the craft if your schedule permits. This event is for children ages birth to 3 years.
URL:https://www.visitottawail.com/event/shake-rattle-read/2026-03-25/
LOCATION:Reddick Public Library\, 1010 Canal Street\, Ottawa\, IL\, 61350\, United States
CATEGORIES:Entertainment
ATTACH;FMTTYPE=image/jpeg:https://www.visitottawail.com/wp-content/uploads/2024/04/reddick-library-more-childrens-books-scaled-1.jpeg
END:VEVENT
BEGIN:VEVENT
DTSTART;TZID=America/Chicago:20260324T180000
DTEND;TZID=America/Chicago:20260324T190000
DTSTAMP:20260425T150712
CREATED:20260302T171015Z
LAST-MODIFIED:20260302T171015Z
UID:10001811-1774375200-1774378800@www.visitottawail.com
SUMMARY:Lego Club
DESCRIPTION:Make a daydream-themed creation with library LEGO pieces and have your build displayed afterwards in the Children’s Dept.
URL:https://www.visitottawail.com/event/lego-club/
LOCATION:Reddick Public Library\, 1010 Canal Street\, Ottawa\, IL\, 61350\, United States
CATEGORIES:Entertainment
ATTACH;FMTTYPE=image/jpeg:https://www.visitottawail.com/wp-content/uploads/2024/11/legos-2-e1734368742553.jpg
END:VEVENT
BEGIN:VEVENT
DTSTART;TZID=America/Chicago:20260324T100000
DTEND;TZID=America/Chicago:20260324T104500
DTSTAMP:20260425T150712
CREATED:20260302T165205Z
LAST-MODIFIED:20260302T165205Z
UID:10001788-1774346400-1774349100@www.visitottawail.com
SUMMARY:Ready\, Set\, Read
DESCRIPTION:Join us every Tuesday for stories\, songs\, and a craft. Find each weeks theme on the event calendar on our website. Stay and play after the craft if you have time. This event is for children ages 3-5 years.
URL:https://www.visitottawail.com/event/ready-set-read/2026-03-24/
LOCATION:Reddick Public Library\, 1010 Canal Street\, Ottawa\, IL\, 61350\, United States
CATEGORIES:Entertainment
ATTACH;FMTTYPE=image/jpeg:https://www.visitottawail.com/wp-content/uploads/2024/04/reddick-library-childrens-books-scaled-1.jpeg
END:VEVENT
BEGIN:VEVENT
DTSTART;VALUE=DATE:20260322
DTEND;VALUE=DATE:20260323
DTSTAMP:20260425T150712
CREATED:20260302T170454Z
LAST-MODIFIED:20260302T170454Z
UID:10001810-1774137600-1774223999@www.visitottawail.com
SUMMARY:Escape the Study Room Game- Leprechaun Chase
DESCRIPTION:Are you lucky enough to outsmart the leprechaun\, King Brian? Solve all his riddles and win a prize.\nSaturday\, March 7-Sunday\, March 22 during open hours.
URL:https://www.visitottawail.com/event/escape-the-study-room-game-leprechaun-chase/2026-03-22/
LOCATION:Reddick Public Library\, 1010 Canal Street\, Ottawa\, IL\, 61350\, United States
CATEGORIES:Entertainment
ATTACH;FMTTYPE=image/jpeg:https://www.visitottawail.com/wp-content/uploads/2024/04/reddick-study-rooms-scaled-1.jpeg
END:VEVENT
BEGIN:VEVENT
DTSTART;TZID=America/Chicago:20260321T133000
DTEND;TZID=America/Chicago:20260321T153000
DTSTAMP:20260425T150712
CREATED:20260302T195710Z
LAST-MODIFIED:20260302T195710Z
UID:10001844-1774099800-1774107000@www.visitottawail.com
SUMMARY:The Loop Group
DESCRIPTION:Learn to knit or crochet in a friendly environment with knowledgeable people.
URL:https://www.visitottawail.com/event/the-loop-group/2026-03-21/
LOCATION:Reddick Public Library\, 1010 Canal Street\, Ottawa\, IL\, 61350\, United States
CATEGORIES:Entertainment,Get Educated
ATTACH;FMTTYPE=image/jpeg:https://www.visitottawail.com/wp-content/uploads/2024/09/th.jpg
END:VEVENT
BEGIN:VEVENT
DTSTART;VALUE=DATE:20260321
DTEND;VALUE=DATE:20260322
DTSTAMP:20260425T150712
CREATED:20260302T170454Z
LAST-MODIFIED:20260302T170454Z
UID:10001809-1774051200-1774137599@www.visitottawail.com
SUMMARY:Escape the Study Room Game- Leprechaun Chase
DESCRIPTION:Are you lucky enough to outsmart the leprechaun\, King Brian? Solve all his riddles and win a prize.\nSaturday\, March 7-Sunday\, March 22 during open hours.
URL:https://www.visitottawail.com/event/escape-the-study-room-game-leprechaun-chase/2026-03-21/
LOCATION:Reddick Public Library\, 1010 Canal Street\, Ottawa\, IL\, 61350\, United States
CATEGORIES:Entertainment
ATTACH;FMTTYPE=image/jpeg:https://www.visitottawail.com/wp-content/uploads/2024/04/reddick-study-rooms-scaled-1.jpeg
END:VEVENT
BEGIN:VEVENT
DTSTART;VALUE=DATE:20260320
DTEND;VALUE=DATE:20260321
DTSTAMP:20260425T150712
CREATED:20260302T170454Z
LAST-MODIFIED:20260302T170454Z
UID:10001808-1773964800-1774051199@www.visitottawail.com
SUMMARY:Escape the Study Room Game- Leprechaun Chase
DESCRIPTION:Are you lucky enough to outsmart the leprechaun\, King Brian? Solve all his riddles and win a prize.\nSaturday\, March 7-Sunday\, March 22 during open hours.
URL:https://www.visitottawail.com/event/escape-the-study-room-game-leprechaun-chase/2026-03-20/
LOCATION:Reddick Public Library\, 1010 Canal Street\, Ottawa\, IL\, 61350\, United States
CATEGORIES:Entertainment
ATTACH;FMTTYPE=image/jpeg:https://www.visitottawail.com/wp-content/uploads/2024/04/reddick-study-rooms-scaled-1.jpeg
END:VEVENT
BEGIN:VEVENT
DTSTART;TZID=America/Chicago:20260319T180000
DTEND;TZID=America/Chicago:20260319T190000
DTSTAMP:20260425T150712
CREATED:20260302T201332Z
LAST-MODIFIED:20260302T201332Z
UID:10001852-1773943200-1773946800@www.visitottawail.com
SUMMARY:Bees and Beekeeping
DESCRIPTION:Buzz into the library to learn about bees and beekeeping from Illinois Valley Beekeeping Association President\, Warren Norris. He’ll have demonstration hives\, tools\, suits\, as well as frames that are full of capped honey to view.
URL:https://www.visitottawail.com/event/bees-and-beekeeping/
LOCATION:Reddick Public Library\, 1010 Canal Street\, Ottawa\, IL\, 61350\, United States
CATEGORIES:Entertainment,Get Educated
ATTACH;FMTTYPE=image/jpeg:https://www.visitottawail.com/wp-content/uploads/2024/04/reddick-study-rooms-scaled-1.jpeg
END:VEVENT
BEGIN:VEVENT
DTSTART;VALUE=DATE:20260319
DTEND;VALUE=DATE:20260320
DTSTAMP:20260425T150712
CREATED:20260302T170454Z
LAST-MODIFIED:20260302T170454Z
UID:10001807-1773878400-1773964799@www.visitottawail.com
SUMMARY:Escape the Study Room Game- Leprechaun Chase
DESCRIPTION:Are you lucky enough to outsmart the leprechaun\, King Brian? Solve all his riddles and win a prize.\nSaturday\, March 7-Sunday\, March 22 during open hours.
URL:https://www.visitottawail.com/event/escape-the-study-room-game-leprechaun-chase/2026-03-19/
LOCATION:Reddick Public Library\, 1010 Canal Street\, Ottawa\, IL\, 61350\, United States
CATEGORIES:Entertainment
ATTACH;FMTTYPE=image/jpeg:https://www.visitottawail.com/wp-content/uploads/2024/04/reddick-study-rooms-scaled-1.jpeg
END:VEVENT
BEGIN:VEVENT
DTSTART;TZID=America/Chicago:20260318T180000
DTEND;TZID=America/Chicago:20260318T193000
DTSTAMP:20260425T150712
CREATED:20260302T193432Z
LAST-MODIFIED:20260302T193432Z
UID:10001837-1773856800-1773862200@www.visitottawail.com
SUMMARY:Voter Registration
DESCRIPTION:Register to vote during this drop-in event. Requirements include being 18 years or older as of election day (11-3-26)\, a photo ID\, and an additional proof of address. This event is located in Study Room 2.
URL:https://www.visitottawail.com/event/voter-registration/
LOCATION:Reddick Public Library\, 1010 Canal Street\, Ottawa\, IL\, 61350\, United States
CATEGORIES:Get Educated
ATTACH;FMTTYPE=image/jpeg:https://www.visitottawail.com/wp-content/uploads/2024/04/Reddick-Study-A-B-and-C-scaled-1.jpeg
END:VEVENT
BEGIN:VEVENT
DTSTART;TZID=America/Chicago:20260318T100000
DTEND;TZID=America/Chicago:20260318T104500
DTSTAMP:20260425T150712
CREATED:20260302T165537Z
LAST-MODIFIED:20260302T165537Z
UID:10001792-1773828000-1773830700@www.visitottawail.com
SUMMARY:Shake\, Rattle\, Read!
DESCRIPTION:Join us every Wednesday for stories\, songs\, and a craft. Find each week’s theme on the event calendar on our website. Stay and play after the craft if your schedule permits. This event is for children ages birth to 3 years.
URL:https://www.visitottawail.com/event/shake-rattle-read/2026-03-18/
LOCATION:Reddick Public Library\, 1010 Canal Street\, Ottawa\, IL\, 61350\, United States
CATEGORIES:Entertainment
ATTACH;FMTTYPE=image/jpeg:https://www.visitottawail.com/wp-content/uploads/2024/04/reddick-library-more-childrens-books-scaled-1.jpeg
END:VEVENT
BEGIN:VEVENT
DTSTART;VALUE=DATE:20260318
DTEND;VALUE=DATE:20260319
DTSTAMP:20260425T150712
CREATED:20260302T170454Z
LAST-MODIFIED:20260302T170454Z
UID:10001806-1773792000-1773878399@www.visitottawail.com
SUMMARY:Escape the Study Room Game- Leprechaun Chase
DESCRIPTION:Are you lucky enough to outsmart the leprechaun\, King Brian? Solve all his riddles and win a prize.\nSaturday\, March 7-Sunday\, March 22 during open hours.
URL:https://www.visitottawail.com/event/escape-the-study-room-game-leprechaun-chase/2026-03-18/
LOCATION:Reddick Public Library\, 1010 Canal Street\, Ottawa\, IL\, 61350\, United States
CATEGORIES:Entertainment
ATTACH;FMTTYPE=image/jpeg:https://www.visitottawail.com/wp-content/uploads/2024/04/reddick-study-rooms-scaled-1.jpeg
END:VEVENT
BEGIN:VEVENT
DTSTART;TZID=America/Chicago:20260317T173000
DTEND;TZID=America/Chicago:20260317T200000
DTSTAMP:20260425T150712
CREATED:20260302T201057Z
LAST-MODIFIED:20260302T201057Z
UID:10001851-1773768600-1773777600@www.visitottawail.com
SUMMARY:Artist's Workshop
DESCRIPTION:Looking for a space to sit down and create? Join us for some time to work on your art and spend time with other artists. This monthly adult event is in collaboration with the Ottawa Art League.
URL:https://www.visitottawail.com/event/artists-workshop-3/
LOCATION:Reddick Public Library\, 1010 Canal Street\, Ottawa\, IL\, 61350\, United States
CATEGORIES:Entertainment
ATTACH;FMTTYPE=image/jpeg:https://www.visitottawail.com/wp-content/uploads/2024/04/reddick-community-and-rack-card-holder-scaled-1.jpeg
END:VEVENT
BEGIN:VEVENT
DTSTART;TZID=America/Chicago:20260317T100000
DTEND;TZID=America/Chicago:20260317T104500
DTSTAMP:20260425T150712
CREATED:20260302T165205Z
LAST-MODIFIED:20260302T165205Z
UID:10001787-1773741600-1773744300@www.visitottawail.com
SUMMARY:Ready\, Set\, Read
DESCRIPTION:Join us every Tuesday for stories\, songs\, and a craft. Find each weeks theme on the event calendar on our website. Stay and play after the craft if you have time. This event is for children ages 3-5 years.
URL:https://www.visitottawail.com/event/ready-set-read/2026-03-17/
LOCATION:Reddick Public Library\, 1010 Canal Street\, Ottawa\, IL\, 61350\, United States
CATEGORIES:Entertainment
ATTACH;FMTTYPE=image/jpeg:https://www.visitottawail.com/wp-content/uploads/2024/04/reddick-library-childrens-books-scaled-1.jpeg
END:VEVENT
BEGIN:VEVENT
DTSTART;VALUE=DATE:20260317
DTEND;VALUE=DATE:20260318
DTSTAMP:20260425T150712
CREATED:20260302T170454Z
LAST-MODIFIED:20260302T170454Z
UID:10001805-1773705600-1773791999@www.visitottawail.com
SUMMARY:Escape the Study Room Game- Leprechaun Chase
DESCRIPTION:Are you lucky enough to outsmart the leprechaun\, King Brian? Solve all his riddles and win a prize.\nSaturday\, March 7-Sunday\, March 22 during open hours.
URL:https://www.visitottawail.com/event/escape-the-study-room-game-leprechaun-chase/2026-03-17/
LOCATION:Reddick Public Library\, 1010 Canal Street\, Ottawa\, IL\, 61350\, United States
CATEGORIES:Entertainment
ATTACH;FMTTYPE=image/jpeg:https://www.visitottawail.com/wp-content/uploads/2024/04/reddick-study-rooms-scaled-1.jpeg
END:VEVENT
BEGIN:VEVENT
DTSTART;TZID=America/Chicago:20260316T173000
DTEND;TZID=America/Chicago:20260316T193000
DTSTAMP:20260425T150712
CREATED:20260302T193052Z
LAST-MODIFIED:20260302T193052Z
UID:10001836-1773682200-1773689400@www.visitottawail.com
SUMMARY:Dungeons and Dragons
DESCRIPTION:Find out what quest your Dungeon Master has created for you. Will you survive? Will you accomplish your goals?
URL:https://www.visitottawail.com/event/dungeons-and-dragons-2/
LOCATION:Reddick Public Library\, 1010 Canal Street\, Ottawa\, IL\, 61350\, United States
CATEGORIES:Entertainment
ATTACH;FMTTYPE=image/jpeg:https://www.visitottawail.com/wp-content/uploads/2025/06/library-door.jpeg
END:VEVENT
BEGIN:VEVENT
DTSTART;TZID=America/Chicago:20260316T130000
DTEND;TZID=America/Chicago:20260316T140000
DTSTAMP:20260425T150712
CREATED:20260302T200824Z
LAST-MODIFIED:20260302T200824Z
UID:10001850-1773666000-1773669600@www.visitottawail.com
SUMMARY:Mystery Monday Book Club: The Holdout by Graham Moore
DESCRIPTION:New members are always welcome to join this librarian-led book club. Copies of the book will be available to check out from the library.
URL:https://www.visitottawail.com/event/mystery-monday-book-club-the-holdout-by-graham-moore/
LOCATION:Reddick Public Library\, 1010 Canal Street\, Ottawa\, IL\, 61350\, United States
CATEGORIES:Entertainment
ATTACH;FMTTYPE=image/jpeg:https://www.visitottawail.com/wp-content/uploads/2024/04/reddick-library-adult-books-scaled-1.jpeg
END:VEVENT
BEGIN:VEVENT
DTSTART;VALUE=DATE:20260316
DTEND;VALUE=DATE:20260317
DTSTAMP:20260425T150712
CREATED:20260302T170454Z
LAST-MODIFIED:20260302T170454Z
UID:10001804-1773619200-1773705599@www.visitottawail.com
SUMMARY:Escape the Study Room Game- Leprechaun Chase
DESCRIPTION:Are you lucky enough to outsmart the leprechaun\, King Brian? Solve all his riddles and win a prize.\nSaturday\, March 7-Sunday\, March 22 during open hours.
URL:https://www.visitottawail.com/event/escape-the-study-room-game-leprechaun-chase/2026-03-16/
LOCATION:Reddick Public Library\, 1010 Canal Street\, Ottawa\, IL\, 61350\, United States
CATEGORIES:Entertainment
ATTACH;FMTTYPE=image/jpeg:https://www.visitottawail.com/wp-content/uploads/2024/04/reddick-study-rooms-scaled-1.jpeg
END:VEVENT
BEGIN:VEVENT
DTSTART;TZID=America/Chicago:20260315T133000
DTEND;TZID=America/Chicago:20260315T143000
DTSTAMP:20260425T150712
CREATED:20260302T192840Z
LAST-MODIFIED:20260302T192840Z
UID:10001835-1773581400-1773585000@www.visitottawail.com
SUMMARY:Financial Face-Off: The Ultimate Money Showdown
DESCRIPTION:One player\, one question\, one champion. Who will rise to the top? Be the last player standing to win this head-to-head elimination style trivia with Financial Plus Credit Union.\nRegistration is required. Register online\, in person at the library\, or call the library at 815-434-0509
URL:https://www.visitottawail.com/event/financial-face-off-the-ultimate-money-showdown/
LOCATION:Reddick Public Library\, 1010 Canal Street\, Ottawa\, IL\, 61350\, United States
CATEGORIES:Entertainment
ATTACH;FMTTYPE=image/jpeg:https://www.visitottawail.com/wp-content/uploads/2025/06/library-door.jpeg
END:VEVENT
BEGIN:VEVENT
DTSTART;VALUE=DATE:20260315
DTEND;VALUE=DATE:20260316
DTSTAMP:20260425T150712
CREATED:20260302T170454Z
LAST-MODIFIED:20260302T170454Z
UID:10001803-1773532800-1773619199@www.visitottawail.com
SUMMARY:Escape the Study Room Game- Leprechaun Chase
DESCRIPTION:Are you lucky enough to outsmart the leprechaun\, King Brian? Solve all his riddles and win a prize.\nSaturday\, March 7-Sunday\, March 22 during open hours.
URL:https://www.visitottawail.com/event/escape-the-study-room-game-leprechaun-chase/2026-03-15/
LOCATION:Reddick Public Library\, 1010 Canal Street\, Ottawa\, IL\, 61350\, United States
CATEGORIES:Entertainment
ATTACH;FMTTYPE=image/jpeg:https://www.visitottawail.com/wp-content/uploads/2024/04/reddick-study-rooms-scaled-1.jpeg
END:VEVENT
BEGIN:VEVENT
DTSTART;TZID=America/Chicago:20260314T133000
DTEND;TZID=America/Chicago:20260314T153000
DTSTAMP:20260425T150712
CREATED:20260302T195710Z
LAST-MODIFIED:20260302T195710Z
UID:10001843-1773495000-1773502200@www.visitottawail.com
SUMMARY:The Loop Group
DESCRIPTION:Learn to knit or crochet in a friendly environment with knowledgeable people.
URL:https://www.visitottawail.com/event/the-loop-group/2026-03-14/
LOCATION:Reddick Public Library\, 1010 Canal Street\, Ottawa\, IL\, 61350\, United States
CATEGORIES:Entertainment,Get Educated
ATTACH;FMTTYPE=image/jpeg:https://www.visitottawail.com/wp-content/uploads/2024/09/th.jpg
END:VEVENT
BEGIN:VEVENT
DTSTART;VALUE=DATE:20260314
DTEND;VALUE=DATE:20260315
DTSTAMP:20260425T150712
CREATED:20260302T170454Z
LAST-MODIFIED:20260302T170454Z
UID:10001802-1773446400-1773532799@www.visitottawail.com
SUMMARY:Escape the Study Room Game- Leprechaun Chase
DESCRIPTION:Are you lucky enough to outsmart the leprechaun\, King Brian? Solve all his riddles and win a prize.\nSaturday\, March 7-Sunday\, March 22 during open hours.
URL:https://www.visitottawail.com/event/escape-the-study-room-game-leprechaun-chase/2026-03-14/
LOCATION:Reddick Public Library\, 1010 Canal Street\, Ottawa\, IL\, 61350\, United States
CATEGORIES:Entertainment
ATTACH;FMTTYPE=image/jpeg:https://www.visitottawail.com/wp-content/uploads/2024/04/reddick-study-rooms-scaled-1.jpeg
END:VEVENT
BEGIN:VEVENT
DTSTART;TZID=America/Chicago:20260313T100000
DTEND;TZID=America/Chicago:20260313T120000
DTSTAMP:20260425T150712
CREATED:20260302T200530Z
LAST-MODIFIED:20260302T200530Z
UID:10001849-1773396000-1773403200@www.visitottawail.com
SUMMARY:Tech Time
DESCRIPTION:Struggling with technology? Join us for some hands on help from our knowledgeable staff at our monthly event. Whether your facing issues with internet\, your phone\, or tech accessories\, we’re here to help.
URL:https://www.visitottawail.com/event/tech-time/
LOCATION:Reddick Public Library\, 1010 Canal Street\, Ottawa\, IL\, 61350\, United States
CATEGORIES:Get Educated
END:VEVENT
BEGIN:VEVENT
DTSTART;VALUE=DATE:20260313
DTEND;VALUE=DATE:20260314
DTSTAMP:20260425T150712
CREATED:20260302T170454Z
LAST-MODIFIED:20260302T170454Z
UID:10001801-1773360000-1773446399@www.visitottawail.com
SUMMARY:Escape the Study Room Game- Leprechaun Chase
DESCRIPTION:Are you lucky enough to outsmart the leprechaun\, King Brian? Solve all his riddles and win a prize.\nSaturday\, March 7-Sunday\, March 22 during open hours.
URL:https://www.visitottawail.com/event/escape-the-study-room-game-leprechaun-chase/2026-03-13/
LOCATION:Reddick Public Library\, 1010 Canal Street\, Ottawa\, IL\, 61350\, United States
CATEGORIES:Entertainment
ATTACH;FMTTYPE=image/jpeg:https://www.visitottawail.com/wp-content/uploads/2024/04/reddick-study-rooms-scaled-1.jpeg
END:VEVENT
BEGIN:VEVENT
DTSTART;TZID=America/Chicago:20260312T190000
DTEND;TZID=America/Chicago:20260312T203000
DTSTAMP:20260425T150712
CREATED:20260302T200253Z
LAST-MODIFIED:20260302T200253Z
UID:10001848-1773342000-1773347400@www.visitottawail.com
SUMMARY:Bingo
DESCRIPTION:Have a blast at bingo with a chance to win gift card prizes. This free event is for adults.
URL:https://www.visitottawail.com/event/bingo-3/
LOCATION:Reddick Public Library\, 1010 Canal Street\, Ottawa\, IL\, 61350\, United States
CATEGORIES:Entertainment
ATTACH;FMTTYPE=image/jpeg:https://www.visitottawail.com/wp-content/uploads/2024/10/bingo-2.jpg
END:VEVENT
BEGIN:VEVENT
DTSTART;TZID=America/Chicago:20260312T163000
DTEND;TZID=America/Chicago:20260312T171500
DTSTAMP:20260425T150712
CREATED:20260302T172951Z
LAST-MODIFIED:20260302T172951Z
UID:10001829-1773333000-1773335700@www.visitottawail.com
SUMMARY:Washi Tape Bracelets (Grades K-2)
DESCRIPTION:Design and make art from washi tape that you can wear as a bracelet.
URL:https://www.visitottawail.com/event/washi-tape-bracelets-grades-k-2/
LOCATION:Reddick Public Library\, 1010 Canal Street\, Ottawa\, IL\, 61350\, United States
CATEGORIES:Entertainment
ATTACH;FMTTYPE=image/jpeg:https://www.visitottawail.com/wp-content/uploads/2024/04/reddick-library-scaled-1.jpeg
END:VEVENT
BEGIN:VEVENT
DTSTART;VALUE=DATE:20260312
DTEND;VALUE=DATE:20260313
DTSTAMP:20260425T150712
CREATED:20260302T170454Z
LAST-MODIFIED:20260302T170454Z
UID:10001800-1773273600-1773359999@www.visitottawail.com
SUMMARY:Escape the Study Room Game- Leprechaun Chase
DESCRIPTION:Are you lucky enough to outsmart the leprechaun\, King Brian? Solve all his riddles and win a prize.\nSaturday\, March 7-Sunday\, March 22 during open hours.
URL:https://www.visitottawail.com/event/escape-the-study-room-game-leprechaun-chase/2026-03-12/
LOCATION:Reddick Public Library\, 1010 Canal Street\, Ottawa\, IL\, 61350\, United States
CATEGORIES:Entertainment
ATTACH;FMTTYPE=image/jpeg:https://www.visitottawail.com/wp-content/uploads/2024/04/reddick-study-rooms-scaled-1.jpeg
END:VEVENT
END:VCALENDAR