BEGIN:VCALENDAR
VERSION:2.0
PRODID:-//Ottawa, IL - The Middle of Everywhere - ECPv6.15.20//NONSGML v1.0//EN
CALSCALE:GREGORIAN
METHOD:PUBLISH
X-WR-CALNAME:Ottawa, IL - The Middle of Everywhere
X-ORIGINAL-URL:https://www.visitottawail.com
X-WR-CALDESC:Events for Ottawa, IL - The Middle of Everywhere
REFRESH-INTERVAL;VALUE=DURATION:PT1H
X-Robots-Tag:noindex
X-PUBLISHED-TTL:PT1H
BEGIN:VTIMEZONE
TZID:America/Chicago
BEGIN:DAYLIGHT
TZOFFSETFROM:-0600
TZOFFSETTO:-0500
TZNAME:CDT
DTSTART:20250309T080000
END:DAYLIGHT
BEGIN:STANDARD
TZOFFSETFROM:-0500
TZOFFSETTO:-0600
TZNAME:CST
DTSTART:20251102T070000
END:STANDARD
BEGIN:DAYLIGHT
TZOFFSETFROM:-0600
TZOFFSETTO:-0500
TZNAME:CDT
DTSTART:20260308T080000
END:DAYLIGHT
BEGIN:STANDARD
TZOFFSETFROM:-0500
TZOFFSETTO:-0600
TZNAME:CST
DTSTART:20261101T070000
END:STANDARD
BEGIN:DAYLIGHT
TZOFFSETFROM:-0600
TZOFFSETTO:-0500
TZNAME:CDT
DTSTART:20270314T080000
END:DAYLIGHT
BEGIN:STANDARD
TZOFFSETFROM:-0500
TZOFFSETTO:-0600
TZNAME:CST
DTSTART:20271107T070000
END:STANDARD
END:VTIMEZONE
BEGIN:VEVENT
DTSTART;TZID=America/Chicago:20260408T163000
DTEND;TZID=America/Chicago:20260408T173000
DTSTAMP:20260425T113733
CREATED:20260319T160105Z
LAST-MODIFIED:20260319T160105Z
UID:10001895-1775665800-1775669400@www.visitottawail.com
SUMMARY:DIY “Touch Grass” Craft
DESCRIPTION:Had a little too much screen time? Come make the perfect patch of fake\ngrass to keep on your desktop to remind you to take a break when\nyou need to “go touch grass!”
URL:https://www.visitottawail.com/event/diy-touch-grass-craft/
LOCATION:Reddick Public Library\, 1010 Canal Street\, Ottawa\, IL\, 61350\, United States
CATEGORIES:Entertainment
ATTACH;FMTTYPE=image/jpeg:https://www.visitottawail.com/wp-content/uploads/2025/06/library-door.jpeg
END:VEVENT
BEGIN:VEVENT
DTSTART;TZID=America/Chicago:20260408T100000
DTEND;TZID=America/Chicago:20260408T104500
DTSTAMP:20260425T113733
CREATED:20260319T153601Z
LAST-MODIFIED:20260319T153630Z
UID:10001883-1775642400-1775645100@www.visitottawail.com
SUMMARY:Shake\, Rattle\, Read!
DESCRIPTION:Join us every Wednesday for stories\, songs\, and a craft. Stay and play after the\ncraft if you have time. Find each week’s theme on the event calendar on our\nwebsite. This event is for children ages birth to 3.
URL:https://www.visitottawail.com/event/shake-rattle-read-2/2026-04-08/
LOCATION:Reddick Public Library\, 1010 Canal Street\, Ottawa\, IL\, 61350\, United States
CATEGORIES:Entertainment
ATTACH;FMTTYPE=image/jpeg:https://www.visitottawail.com/wp-content/uploads/2024/08/reddick-library-more-childrens-books-scaled-1.jpeg
END:VEVENT
BEGIN:VEVENT
DTSTART;VALUE=DATE:20260408
DTEND;VALUE=DATE:20260409
DTSTAMP:20260425T113733
CREATED:20260302T172152Z
LAST-MODIFIED:20260302T172152Z
UID:10001823-1775606400-1775692799@www.visitottawail.com
SUMMARY:Escape the Study Room Game-Rescue Peter Rabbit
DESCRIPTION:Are you quick enough to solve the riddles that will free Peter Rabbit ffrom Mr. McGregor’s garden? Help Peter escape and win a prize.
URL:https://www.visitottawail.com/event/escape-the-study-room-game-rescue-peter-rabbit/2026-04-08/
LOCATION:Reddick Public Library\, 1010 Canal Street\, Ottawa\, IL\, 61350\, United States
CATEGORIES:Entertainment
ATTACH;FMTTYPE=image/jpeg:https://www.visitottawail.com/wp-content/uploads/2025/06/library-door.jpeg
END:VEVENT
BEGIN:VEVENT
DTSTART;TZID=America/Chicago:20260407T173000
DTEND;TZID=America/Chicago:20260407T193000
DTSTAMP:20260425T113733
CREATED:20260319T155911Z
LAST-MODIFIED:20260319T155911Z
UID:10001894-1775583000-1775590200@www.visitottawail.com
SUMMARY:Teen Movie Theater
DESCRIPTION:Join us for popcorn and a movie. This month\, we’re watching\nDisney’s animated Hercules. Rated G. For teens in Grades 7-12.
URL:https://www.visitottawail.com/event/teen-movie-theater-2/
LOCATION:Reddick Public Library\, 1010 Canal Street\, Ottawa\, IL\, 61350\, United States
CATEGORIES:Entertainment
ATTACH;FMTTYPE=image/jpeg:https://www.visitottawail.com/wp-content/uploads/2024/04/reddick-community-and-rack-card-holder-scaled-1.jpeg
END:VEVENT
BEGIN:VEVENT
DTSTART;TZID=America/Chicago:20260407T140000
DTEND;TZID=America/Chicago:20260407T150000
DTSTAMP:20260425T113733
CREATED:20260319T151651Z
LAST-MODIFIED:20260319T151651Z
UID:10001872-1775570400-1775574000@www.visitottawail.com
SUMMARY:RPLD Community Garden: Salad Garden Planting
DESCRIPTION:Help us start off the 2026 growing season by planting a salad garden in the\nRPLD Community Garden. John Collet\, from the Ottawa Garden Club\, will plant\na variety of leafy greens that will make a delicious salad. This event will be held in\nour Community Garden located on Fulton Street and is open to all ages.
URL:https://www.visitottawail.com/event/rpld-community-garden-salad-garden-planting/
LOCATION:Reddick Public Library\, 1010 Canal Street\, Ottawa\, IL\, 61350\, United States
CATEGORIES:Entertainment,Garden
ATTACH;FMTTYPE=image/jpeg:https://www.visitottawail.com/wp-content/uploads/2024/04/reddick-community-scaled-1.jpeg
END:VEVENT
BEGIN:VEVENT
DTSTART;TZID=America/Chicago:20260407T100000
DTEND;TZID=America/Chicago:20260407T104500
DTSTAMP:20260425T113733
CREATED:20260319T153120Z
LAST-MODIFIED:20260319T153120Z
UID:10001878-1775556000-1775558700@www.visitottawail.com
SUMMARY:Ready\, Set\, Read!
DESCRIPTION:Join us every Tuesday for stories\, songs\, and a craft. Stay and play after the craft if\nyou have time. Find each week’s theme on the event calendar on our website.\nThis event is for children ages 3-5 years.
URL:https://www.visitottawail.com/event/ready-set-read-4/2026-04-07/
LOCATION:Reddick Public Library\, 1010 Canal Street\, Ottawa\, IL\, 61350\, United States
CATEGORIES:Entertainment
ATTACH;FMTTYPE=image/jpeg:https://www.visitottawail.com/wp-content/uploads/2024/04/reddick-library-childrens-books-scaled-1.jpeg
END:VEVENT
BEGIN:VEVENT
DTSTART;VALUE=DATE:20260407
DTEND;VALUE=DATE:20260408
DTSTAMP:20260425T113733
CREATED:20260302T172152Z
LAST-MODIFIED:20260302T172152Z
UID:10001822-1775520000-1775606399@www.visitottawail.com
SUMMARY:Escape the Study Room Game-Rescue Peter Rabbit
DESCRIPTION:Are you quick enough to solve the riddles that will free Peter Rabbit ffrom Mr. McGregor’s garden? Help Peter escape and win a prize.
URL:https://www.visitottawail.com/event/escape-the-study-room-game-rescue-peter-rabbit/2026-04-07/
LOCATION:Reddick Public Library\, 1010 Canal Street\, Ottawa\, IL\, 61350\, United States
CATEGORIES:Entertainment
ATTACH;FMTTYPE=image/jpeg:https://www.visitottawail.com/wp-content/uploads/2025/06/library-door.jpeg
END:VEVENT
BEGIN:VEVENT
DTSTART;TZID=America/Chicago:20260406T173000
DTEND;TZID=America/Chicago:20260406T183000
DTSTAMP:20260425T113733
CREATED:20260319T150958Z
LAST-MODIFIED:20260319T150958Z
UID:10001870-1775496600-1775500200@www.visitottawail.com
SUMMARY:Poetry and Tea (Grades 5-6)
DESCRIPTION:Celebrate National Poetry Month! Try your hand at writing your own poem\nwhile enjoying tea (and juice) and snacks. Please register online\, in\nperson at the library\, or call 815-434-0509.
URL:https://www.visitottawail.com/event/poetry-and-tea-grades-5-6/
LOCATION:Reddick Public Library\, 1010 Canal Street\, Ottawa\, IL\, 61350\, United States
CATEGORIES:Entertainment
ATTACH;FMTTYPE=image/jpeg:https://www.visitottawail.com/wp-content/uploads/2025/06/library-door.jpeg
END:VEVENT
BEGIN:VEVENT
DTSTART;TZID=America/Chicago:20260406T103000
DTEND;TZID=America/Chicago:20260406T113000
DTSTAMP:20260425T113733
CREATED:20260319T153858Z
LAST-MODIFIED:20260319T153858Z
UID:10001887-1775471400-1775475000@www.visitottawail.com
SUMMARY:Story Time @ the Woodland
DESCRIPTION:Join us at Nell’s Woodland for a naturethemed story time. Enjoy stories\, music\,\nand a craft followed by a short hike through the park\, weather permitting.\nRegistration is required. Please register online\, in person at the library\, or call\n(815) 434-0509.
URL:https://www.visitottawail.com/event/story-time-the-woodland/
LOCATION:Nell’s Woodland\, 2000 Alexis Ave.\, Ottawa\, IL\, 61350\, United States
CATEGORIES:Entertainment
ATTACH;FMTTYPE=image/webp:https://www.visitottawail.com/wp-content/uploads/2024/04/Nells-bridge.webp
END:VEVENT
BEGIN:VEVENT
DTSTART;VALUE=DATE:20260406
DTEND;VALUE=DATE:20260407
DTSTAMP:20260425T113733
CREATED:20260302T172152Z
LAST-MODIFIED:20260302T172152Z
UID:10001821-1775433600-1775519999@www.visitottawail.com
SUMMARY:Escape the Study Room Game-Rescue Peter Rabbit
DESCRIPTION:Are you quick enough to solve the riddles that will free Peter Rabbit ffrom Mr. McGregor’s garden? Help Peter escape and win a prize.
URL:https://www.visitottawail.com/event/escape-the-study-room-game-rescue-peter-rabbit/2026-04-06/
LOCATION:Reddick Public Library\, 1010 Canal Street\, Ottawa\, IL\, 61350\, United States
CATEGORIES:Entertainment
ATTACH;FMTTYPE=image/jpeg:https://www.visitottawail.com/wp-content/uploads/2025/06/library-door.jpeg
END:VEVENT
BEGIN:VEVENT
DTSTART;VALUE=DATE:20260405
DTEND;VALUE=DATE:20260406
DTSTAMP:20260425T113733
CREATED:20260302T172152Z
LAST-MODIFIED:20260302T172152Z
UID:10001820-1775347200-1775433599@www.visitottawail.com
SUMMARY:Escape the Study Room Game-Rescue Peter Rabbit
DESCRIPTION:Are you quick enough to solve the riddles that will free Peter Rabbit ffrom Mr. McGregor’s garden? Help Peter escape and win a prize.
URL:https://www.visitottawail.com/event/escape-the-study-room-game-rescue-peter-rabbit/2026-04-05/
LOCATION:Reddick Public Library\, 1010 Canal Street\, Ottawa\, IL\, 61350\, United States
CATEGORIES:Entertainment
ATTACH;FMTTYPE=image/jpeg:https://www.visitottawail.com/wp-content/uploads/2025/06/library-door.jpeg
END:VEVENT
BEGIN:VEVENT
DTSTART;TZID=America/Chicago:20260404T140000
DTEND;TZID=America/Chicago:20260404T150000
DTSTAMP:20260425T113733
CREATED:20260319T155719Z
LAST-MODIFIED:20260319T155719Z
UID:10001893-1775311200-1775314800@www.visitottawail.com
SUMMARY:Manga Club
DESCRIPTION:Hey manga and anime fans! We’re getting together to talk about our\nfavorite manga (and the anime series they’ve inspired). This month\,\nwe’re talking The Apothecary Diaries.
URL:https://www.visitottawail.com/event/manga-club-4/
LOCATION:Reddick Public Library\, 1010 Canal Street\, Ottawa\, IL\, 61350\, United States
CATEGORIES:Entertainment
END:VEVENT
BEGIN:VEVENT
DTSTART;TZID=America/Chicago:20260404T133000
DTEND;TZID=America/Chicago:20260404T153000
DTSTAMP:20260425T113733
CREATED:20260319T162618Z
LAST-MODIFIED:20260319T162618Z
UID:10001906-1775309400-1775316600@www.visitottawail.com
SUMMARY:The Loop Group
DESCRIPTION:Learn to knit or crochet in a friendly environment with knowledgeable\npeople.
URL:https://www.visitottawail.com/event/the-loop-group-2/2026-04-04/
LOCATION:Reddick Public Library\, 1010 Canal Street\, Ottawa\, IL\, 61350\, United States
CATEGORIES:Entertainment
ATTACH;FMTTYPE=image/jpeg:https://www.visitottawail.com/wp-content/uploads/2024/09/th.jpg
END:VEVENT
BEGIN:VEVENT
DTSTART;VALUE=DATE:20260404
DTEND;VALUE=DATE:20260405
DTSTAMP:20260425T113733
CREATED:20260302T172152Z
LAST-MODIFIED:20260302T172152Z
UID:10001819-1775260800-1775347199@www.visitottawail.com
SUMMARY:Escape the Study Room Game-Rescue Peter Rabbit
DESCRIPTION:Are you quick enough to solve the riddles that will free Peter Rabbit ffrom Mr. McGregor’s garden? Help Peter escape and win a prize.
URL:https://www.visitottawail.com/event/escape-the-study-room-game-rescue-peter-rabbit/2026-04-04/
LOCATION:Reddick Public Library\, 1010 Canal Street\, Ottawa\, IL\, 61350\, United States
CATEGORIES:Entertainment
ATTACH;FMTTYPE=image/jpeg:https://www.visitottawail.com/wp-content/uploads/2025/06/library-door.jpeg
END:VEVENT
BEGIN:VEVENT
DTSTART;VALUE=DATE:20260403
DTEND;VALUE=DATE:20260404
DTSTAMP:20260425T113733
CREATED:20260302T172152Z
LAST-MODIFIED:20260302T172152Z
UID:10001818-1775174400-1775260799@www.visitottawail.com
SUMMARY:Escape the Study Room Game-Rescue Peter Rabbit
DESCRIPTION:Are you quick enough to solve the riddles that will free Peter Rabbit ffrom Mr. McGregor’s garden? Help Peter escape and win a prize.
URL:https://www.visitottawail.com/event/escape-the-study-room-game-rescue-peter-rabbit/2026-04-03/
LOCATION:Reddick Public Library\, 1010 Canal Street\, Ottawa\, IL\, 61350\, United States
CATEGORIES:Entertainment
ATTACH;FMTTYPE=image/jpeg:https://www.visitottawail.com/wp-content/uploads/2025/06/library-door.jpeg
END:VEVENT
BEGIN:VEVENT
DTSTART;TZID=America/Chicago:20260402T130000
DTEND;TZID=America/Chicago:20260402T134500
DTSTAMP:20260425T113733
CREATED:20260319T154118Z
LAST-MODIFIED:20260319T154118Z
UID:10001888-1775134800-1775137500@www.visitottawail.com
SUMMARY:Tinker Time: Slime and Goo (Preschool- Grade 2)
DESCRIPTION:Get sticky at the library while you make different types of slime and goo!
URL:https://www.visitottawail.com/event/tinker-time-slime-and-goo-preschool-grade-2/
LOCATION:Reddick Public Library\, 1010 Canal Street\, Ottawa\, IL\, 61350\, United States
CATEGORIES:Entertainment
ATTACH;FMTTYPE=image/jpeg:https://www.visitottawail.com/wp-content/uploads/2024/04/reddick-library-scaled-1.jpeg
END:VEVENT
BEGIN:VEVENT
DTSTART;VALUE=DATE:20260402
DTEND;VALUE=DATE:20260403
DTSTAMP:20260425T113733
CREATED:20260302T172152Z
LAST-MODIFIED:20260302T172152Z
UID:10001817-1775088000-1775174399@www.visitottawail.com
SUMMARY:Escape the Study Room Game-Rescue Peter Rabbit
DESCRIPTION:Are you quick enough to solve the riddles that will free Peter Rabbit ffrom Mr. McGregor’s garden? Help Peter escape and win a prize.
URL:https://www.visitottawail.com/event/escape-the-study-room-game-rescue-peter-rabbit/2026-04-02/
LOCATION:Reddick Public Library\, 1010 Canal Street\, Ottawa\, IL\, 61350\, United States
CATEGORIES:Entertainment
ATTACH;FMTTYPE=image/jpeg:https://www.visitottawail.com/wp-content/uploads/2025/06/library-door.jpeg
END:VEVENT
BEGIN:VEVENT
DTSTART;TZID=America/Chicago:20260401T173000
DTEND;TZID=America/Chicago:20260401T193000
DTSTAMP:20260425T113733
CREATED:20260319T151251Z
LAST-MODIFIED:20260319T151251Z
UID:10001871-1775064600-1775071800@www.visitottawail.com
SUMMARY:Friendly Faces\, Safe Spaces: Autism Acceptance Family Night
DESCRIPTION:Join us at the library to explore local autism resources! Meet officers from\nthe Ottawa Police Department’s LINKED program and hear from representatives\nof community organizations about what they have to offer. We’ll also have a\nsensory-friendly Touch-a-Truck with the Ottawa Police and Ottawa Fire\nDepartments (no lights\, no sirens) along with light refreshments\, kids’ crafts and\nactivities\, and a Quiet Room.
URL:https://www.visitottawail.com/event/friendly-faces-safe-spaces-autism-acceptance-family-night/
LOCATION:Reddick Public Library\, 1010 Canal Street\, Ottawa\, IL\, 61350\, United States
CATEGORIES:Family
ATTACH;FMTTYPE=image/jpeg:https://www.visitottawail.com/wp-content/uploads/2024/04/reddick-community-and-rack-card-holder-scaled-1.jpeg
END:VEVENT
BEGIN:VEVENT
DTSTART;TZID=America/Chicago:20260401T100000
DTEND;TZID=America/Chicago:20260401T104500
DTSTAMP:20260425T113733
CREATED:20260319T153601Z
LAST-MODIFIED:20260319T153630Z
UID:10001882-1775037600-1775040300@www.visitottawail.com
SUMMARY:Shake\, Rattle\, Read!
DESCRIPTION:Join us every Wednesday for stories\, songs\, and a craft. Stay and play after the\ncraft if you have time. Find each week’s theme on the event calendar on our\nwebsite. This event is for children ages birth to 3.
URL:https://www.visitottawail.com/event/shake-rattle-read-2/2026-04-01/
LOCATION:Reddick Public Library\, 1010 Canal Street\, Ottawa\, IL\, 61350\, United States
CATEGORIES:Entertainment
ATTACH;FMTTYPE=image/jpeg:https://www.visitottawail.com/wp-content/uploads/2024/08/reddick-library-more-childrens-books-scaled-1.jpeg
END:VEVENT
BEGIN:VEVENT
DTSTART;VALUE=DATE:20260401
DTEND;VALUE=DATE:20260402
DTSTAMP:20260425T113733
CREATED:20260302T172152Z
LAST-MODIFIED:20260302T172152Z
UID:10001816-1775001600-1775087999@www.visitottawail.com
SUMMARY:Escape the Study Room Game-Rescue Peter Rabbit
DESCRIPTION:Are you quick enough to solve the riddles that will free Peter Rabbit ffrom Mr. McGregor’s garden? Help Peter escape and win a prize.
URL:https://www.visitottawail.com/event/escape-the-study-room-game-rescue-peter-rabbit/2026-04-01/
LOCATION:Reddick Public Library\, 1010 Canal Street\, Ottawa\, IL\, 61350\, United States
CATEGORIES:Entertainment
ATTACH;FMTTYPE=image/jpeg:https://www.visitottawail.com/wp-content/uploads/2025/06/library-door.jpeg
END:VEVENT
BEGIN:VEVENT
DTSTART;TZID=America/Chicago:20260331T163000
DTEND;TZID=America/Chicago:20260331T173000
DTSTAMP:20260425T113733
CREATED:20260302T191958Z
LAST-MODIFIED:20260302T191958Z
UID:10001833-1774974600-1774978200@www.visitottawail.com
SUMMARY:Yappers Book Club
DESCRIPTION:Need a place to study after school or somewhere to hang out with friends? Bring schoolwork\, a project\, or a book to read for fun! There’s no pressure here\, just friends\, snacks\, and time to get something done at the library.
URL:https://www.visitottawail.com/event/yappers-book-club/
LOCATION:Reddick Public Library\, 1010 Canal Street\, Ottawa\, IL\, 61350\, United States
CATEGORIES:Entertainment
ATTACH;FMTTYPE=image/jpeg:https://www.visitottawail.com/wp-content/uploads/2024/04/reddick-library-adult-books-scaled-1.jpeg
END:VEVENT
BEGIN:VEVENT
DTSTART;TZID=America/Chicago:20260331T130000
DTEND;TZID=America/Chicago:20260331T134500
DTSTAMP:20260425T113733
CREATED:20260302T164422Z
LAST-MODIFIED:20260302T164422Z
UID:10001784-1774962000-1774964700@www.visitottawail.com
SUMMARY:Watercolor Bunnies (Grades 3-6)
DESCRIPTION:Learn about illustrator Catherine Rayner as you create value studies of bunnies using watercolors.
URL:https://www.visitottawail.com/event/watercolor-bunnies-grades-3-6/
LOCATION:Reddick Public Library\, 1010 Canal Street\, Ottawa\, IL\, 61350\, United States
CATEGORIES:Entertainment
ATTACH;FMTTYPE=image/jpeg:https://www.visitottawail.com/wp-content/uploads/2024/04/reddick-library-scaled-1.jpeg
END:VEVENT
BEGIN:VEVENT
DTSTART;TZID=America/Chicago:20260331T100000
DTEND;TZID=America/Chicago:20260331T104500
DTSTAMP:20260425T113733
CREATED:20260302T165205Z
LAST-MODIFIED:20260302T165205Z
UID:10001789-1774951200-1774953900@www.visitottawail.com
SUMMARY:Ready\, Set\, Read
DESCRIPTION:Join us every Tuesday for stories\, songs\, and a craft. Find each weeks theme on the event calendar on our website. Stay and play after the craft if you have time. This event is for children ages 3-5 years.
URL:https://www.visitottawail.com/event/ready-set-read/2026-03-31/
LOCATION:Reddick Public Library\, 1010 Canal Street\, Ottawa\, IL\, 61350\, United States
CATEGORIES:Entertainment
ATTACH;FMTTYPE=image/jpeg:https://www.visitottawail.com/wp-content/uploads/2024/04/reddick-library-childrens-books-scaled-1.jpeg
END:VEVENT
BEGIN:VEVENT
DTSTART;VALUE=DATE:20260331
DTEND;VALUE=DATE:20260401
DTSTAMP:20260425T113733
CREATED:20260302T172152Z
LAST-MODIFIED:20260302T172152Z
UID:10001815-1774915200-1775001599@www.visitottawail.com
SUMMARY:Escape the Study Room Game-Rescue Peter Rabbit
DESCRIPTION:Are you quick enough to solve the riddles that will free Peter Rabbit ffrom Mr. McGregor’s garden? Help Peter escape and win a prize.
URL:https://www.visitottawail.com/event/escape-the-study-room-game-rescue-peter-rabbit/2026-03-31/
LOCATION:Reddick Public Library\, 1010 Canal Street\, Ottawa\, IL\, 61350\, United States
CATEGORIES:Entertainment
ATTACH;FMTTYPE=image/jpeg:https://www.visitottawail.com/wp-content/uploads/2025/06/library-door.jpeg
END:VEVENT
BEGIN:VEVENT
DTSTART;TZID=America/Chicago:20260330T100000
DTEND;TZID=America/Chicago:20260330T110000
DTSTAMP:20260425T113733
CREATED:20260302T172610Z
LAST-MODIFIED:20260302T172610Z
UID:10001828-1774864800-1774868400@www.visitottawail.com
SUMMARY:Homeschool Art
DESCRIPTION:We will be working with charcoal this month. Learn the different techniques and then use that knowledge to create your own unique work of art. Be sure to wear clothes you don’t mind getting messy.
URL:https://www.visitottawail.com/event/homeschool-art/
LOCATION:Reddick Public Library\, 1010 Canal Street\, Ottawa\, IL\, 61350\, United States
CATEGORIES:Entertainment,Get Educated
ATTACH;FMTTYPE=image/jpeg:https://www.visitottawail.com/wp-content/uploads/2024/04/Reddick-Study-A-B-and-C-scaled-1.jpeg
END:VEVENT
BEGIN:VEVENT
DTSTART;VALUE=DATE:20260330
DTEND;VALUE=DATE:20260331
DTSTAMP:20260425T113733
CREATED:20260302T172152Z
LAST-MODIFIED:20260302T172152Z
UID:10001814-1774828800-1774915199@www.visitottawail.com
SUMMARY:Escape the Study Room Game-Rescue Peter Rabbit
DESCRIPTION:Are you quick enough to solve the riddles that will free Peter Rabbit ffrom Mr. McGregor’s garden? Help Peter escape and win a prize.
URL:https://www.visitottawail.com/event/escape-the-study-room-game-rescue-peter-rabbit/2026-03-30/
LOCATION:Reddick Public Library\, 1010 Canal Street\, Ottawa\, IL\, 61350\, United States
CATEGORIES:Entertainment
ATTACH;FMTTYPE=image/jpeg:https://www.visitottawail.com/wp-content/uploads/2025/06/library-door.jpeg
END:VEVENT
BEGIN:VEVENT
DTSTART;VALUE=DATE:20260329
DTEND;VALUE=DATE:20260330
DTSTAMP:20260425T113733
CREATED:20260302T172152Z
LAST-MODIFIED:20260302T172152Z
UID:10001813-1774742400-1774828799@www.visitottawail.com
SUMMARY:Escape the Study Room Game-Rescue Peter Rabbit
DESCRIPTION:Are you quick enough to solve the riddles that will free Peter Rabbit ffrom Mr. McGregor’s garden? Help Peter escape and win a prize.
URL:https://www.visitottawail.com/event/escape-the-study-room-game-rescue-peter-rabbit/2026-03-29/
LOCATION:Reddick Public Library\, 1010 Canal Street\, Ottawa\, IL\, 61350\, United States
CATEGORIES:Entertainment
ATTACH;FMTTYPE=image/jpeg:https://www.visitottawail.com/wp-content/uploads/2025/06/library-door.jpeg
END:VEVENT
BEGIN:VEVENT
DTSTART;TZID=America/Chicago:20260328T133000
DTEND;TZID=America/Chicago:20260328T153000
DTSTAMP:20260425T113733
CREATED:20260302T195710Z
LAST-MODIFIED:20260302T195710Z
UID:10001845-1774704600-1774711800@www.visitottawail.com
SUMMARY:The Loop Group
DESCRIPTION:Learn to knit or crochet in a friendly environment with knowledgeable people.
URL:https://www.visitottawail.com/event/the-loop-group/2026-03-28/
LOCATION:Reddick Public Library\, 1010 Canal Street\, Ottawa\, IL\, 61350\, United States
CATEGORIES:Entertainment,Get Educated
ATTACH;FMTTYPE=image/jpeg:https://www.visitottawail.com/wp-content/uploads/2024/09/th.jpg
END:VEVENT
BEGIN:VEVENT
DTSTART;TZID=America/Chicago:20260328T100000
DTEND;TZID=America/Chicago:20260328T113000
DTSTAMP:20260425T113733
CREATED:20260302T194437Z
LAST-MODIFIED:20260302T194437Z
UID:10001840-1774692000-1774697400@www.visitottawail.com
SUMMARY:Crafter Hours: Cupcake Liner Flowers
DESCRIPTION:Make a beautiful bouquet out of cupcake liners. Registration is required as spots are limited due to the availability of supplies. To register for this class\, visit our events page\, call the library at 815-434-0509\, or stop by the Circulation Desk.
URL:https://www.visitottawail.com/event/crafter-hours-cupcake-liner-flowers/
LOCATION:Reddick Public Library\, 1010 Canal Street\, Ottawa\, IL\, 61350\, United States
CATEGORIES:Entertainment
ATTACH;FMTTYPE=image/jpeg:https://www.visitottawail.com/wp-content/uploads/2024/04/reddick-community-and-rack-card-holder-scaled-1.jpeg
END:VEVENT
BEGIN:VEVENT
DTSTART;VALUE=DATE:20260328
DTEND;VALUE=DATE:20260329
DTSTAMP:20260425T113733
CREATED:20260302T172152Z
LAST-MODIFIED:20260302T172152Z
UID:10001812-1774656000-1774742399@www.visitottawail.com
SUMMARY:Escape the Study Room Game-Rescue Peter Rabbit
DESCRIPTION:Are you quick enough to solve the riddles that will free Peter Rabbit ffrom Mr. McGregor’s garden? Help Peter escape and win a prize.
URL:https://www.visitottawail.com/event/escape-the-study-room-game-rescue-peter-rabbit/2026-03-28/
LOCATION:Reddick Public Library\, 1010 Canal Street\, Ottawa\, IL\, 61350\, United States
CATEGORIES:Entertainment
ATTACH;FMTTYPE=image/jpeg:https://www.visitottawail.com/wp-content/uploads/2025/06/library-door.jpeg
END:VEVENT
END:VCALENDAR