BEGIN:VCALENDAR
VERSION:2.0
PRODID:-//Ottawa, IL - The Middle of Everywhere - ECPv6.15.20//NONSGML v1.0//EN
CALSCALE:GREGORIAN
METHOD:PUBLISH
X-ORIGINAL-URL:https://www.visitottawail.com
X-WR-CALDESC:Events for Ottawa, IL - The Middle of Everywhere
REFRESH-INTERVAL;VALUE=DURATION:PT1H
X-Robots-Tag:noindex
X-PUBLISHED-TTL:PT1H
BEGIN:VTIMEZONE
TZID:America/Chicago
BEGIN:DAYLIGHT
TZOFFSETFROM:-0600
TZOFFSETTO:-0500
TZNAME:CDT
DTSTART:20250309T080000
END:DAYLIGHT
BEGIN:STANDARD
TZOFFSETFROM:-0500
TZOFFSETTO:-0600
TZNAME:CST
DTSTART:20251102T070000
END:STANDARD
BEGIN:DAYLIGHT
TZOFFSETFROM:-0600
TZOFFSETTO:-0500
TZNAME:CDT
DTSTART:20260308T080000
END:DAYLIGHT
BEGIN:STANDARD
TZOFFSETFROM:-0500
TZOFFSETTO:-0600
TZNAME:CST
DTSTART:20261101T070000
END:STANDARD
BEGIN:DAYLIGHT
TZOFFSETFROM:-0600
TZOFFSETTO:-0500
TZNAME:CDT
DTSTART:20270314T080000
END:DAYLIGHT
BEGIN:STANDARD
TZOFFSETFROM:-0500
TZOFFSETTO:-0600
TZNAME:CST
DTSTART:20271107T070000
END:STANDARD
END:VTIMEZONE
BEGIN:VEVENT
DTSTART;TZID=America/Chicago:20260424T110000
DTEND;TZID=America/Chicago:20260424T113000
DTSTAMP:20260424T084606
CREATED:20260319T152413Z
LAST-MODIFIED:20260319T152413Z
UID:10001875-1777028400-1777030200@www.visitottawail.com
SUMMARY:Story Time with State Representative Briel
DESCRIPTION:Join us for a special National Library Week Story Time with State\nRepresentative Briel. She will be reading a story in the Children’ Department.
URL:https://www.visitottawail.com/event/story-time-with-state-representative-briel/
LOCATION:Reddick Public Library\, 1010 Canal Street\, Ottawa\, IL\, 61350\, United States
CATEGORIES:Entertainment
END:VEVENT
BEGIN:VEVENT
DTSTART;TZID=America/Chicago:20260424T120000
DTEND;TZID=America/Chicago:20260424T150000
DTSTAMP:20260424T084606
CREATED:20260319T161841Z
LAST-MODIFIED:20260319T161841Z
UID:10001903-1777032000-1777042800@www.visitottawail.com
SUMMARY:ImpactLife Blood Drive
DESCRIPTION:Help save lives by donating blood at our ImpactLife Blood Drive. Sign-ups\nfor specific times are preferred\, but we will do our best to accommodate walk\nins. To sign up for an appointment\, go to our events page.
URL:https://www.visitottawail.com/event/impactlife-blood-drive/
LOCATION:Reddick Public Library\, 1010 Canal Street\, Ottawa\, IL\, 61350\, United States
ATTACH;FMTTYPE=image/jpeg:https://www.visitottawail.com/wp-content/uploads/2024/04/reddick-community-scaled-1.jpeg
END:VEVENT
BEGIN:VEVENT
DTSTART;TZID=America/Chicago:20260424T160000
DTEND;TZID=America/Chicago:20260424T190000
DTSTAMP:20260424T084606
CREATED:20260121T170822Z
LAST-MODIFIED:20260414T085348Z
UID:10001652-1777046400-1777057200@www.visitottawail.com
SUMMARY:OVC 30th Birthday Party
DESCRIPTION:Celebrate the 30th anniversary of the Ottawa Visitors Center with us! \n30 years… right here in the middle of everywhere \nThe Ottawa Visitors Center has been sharing the stories\, history\, and heart of this community for three decades… and we think that’s something pretty special. And if you really want to see what that looks like\, Ryan has started a blog series featuring 30 stories from past board members… and let me tell you\, they are something special.\n\nSo… we’re celebrating  Join us for our 30th Anniversary Open House on April 24 from 4–7 PM!\nWe’ll have great company\, great stories\, and live music from Kaedon Cronkright (because of course we do ).\nWhether you’ve been part of our journey for years or just discovered us\, we’d love to celebrate with you.\n30 years in the middle of everywhere… and we’re just getting started 
URL:https://www.visitottawail.com/event/ovc-30th-birthday-party/
LOCATION:Ottawa Visitors Center\, 1028 LaSalle Street\, Ottawa\, IL\, 61350\, United States
CATEGORIES:Entertainment,Family,History,Live Music,Outdoor
ATTACH;FMTTYPE=image/jpeg:https://www.visitottawail.com/wp-content/uploads/2026/01/ovcbdayparty.jpg
END:VEVENT
END:VCALENDAR