BEGIN:VCALENDAR
VERSION:2.0
PRODID:-//Ottawa, IL - The Middle of Everywhere - ECPv6.15.20//NONSGML v1.0//EN
CALSCALE:GREGORIAN
METHOD:PUBLISH
X-ORIGINAL-URL:https://www.visitottawail.com
X-WR-CALDESC:Events for Ottawa, IL - The Middle of Everywhere
REFRESH-INTERVAL;VALUE=DURATION:PT1H
X-Robots-Tag:noindex
X-PUBLISHED-TTL:PT1H
BEGIN:VTIMEZONE
TZID:America/Chicago
BEGIN:DAYLIGHT
TZOFFSETFROM:-0600
TZOFFSETTO:-0500
TZNAME:CDT
DTSTART:20250309T080000
END:DAYLIGHT
BEGIN:STANDARD
TZOFFSETFROM:-0500
TZOFFSETTO:-0600
TZNAME:CST
DTSTART:20251102T070000
END:STANDARD
BEGIN:DAYLIGHT
TZOFFSETFROM:-0600
TZOFFSETTO:-0500
TZNAME:CDT
DTSTART:20260308T080000
END:DAYLIGHT
BEGIN:STANDARD
TZOFFSETFROM:-0500
TZOFFSETTO:-0600
TZNAME:CST
DTSTART:20261101T070000
END:STANDARD
BEGIN:DAYLIGHT
TZOFFSETFROM:-0600
TZOFFSETTO:-0500
TZNAME:CDT
DTSTART:20270314T080000
END:DAYLIGHT
BEGIN:STANDARD
TZOFFSETFROM:-0500
TZOFFSETTO:-0600
TZNAME:CST
DTSTART:20271107T070000
END:STANDARD
END:VTIMEZONE
BEGIN:VEVENT
DTSTART;TZID=America/Chicago:20260503T140000
DTEND;TZID=America/Chicago:20260503T160000
DTSTAMP:20260422T062312
CREATED:20260415T135046Z
LAST-MODIFIED:20260415T164039Z
UID:10001914-1777816800-1777824000@www.visitottawail.com
SUMMARY:Spring Dance
DESCRIPTION:Join Ottawa City Rec for a fun-filled Spring Dance featuring live music from the Yorkville Big Band! Come enjoy an afternoon of great tunes\, dancing\, and community spirit you won’t want to miss.
URL:https://www.visitottawail.com/event/spring-dance/
LOCATION:Rivers Edge Event Center\, 401 West Main Street\, Ottawa\, IL\, 61350\, United States
CATEGORIES:Arts,Entertainment,Family,Live Music,Seasonal
ATTACH;FMTTYPE=image/jpeg:https://www.visitottawail.com/wp-content/uploads/2026/04/662891068_941067942015087_6816928385591773905_n.jpg
ORGANIZER;CN="Ottawa City Rec":MAILTO:cityrec@cityofottawa.org
END:VEVENT
BEGIN:VEVENT
DTSTART;TZID=America/Chicago:20260504T103000
DTEND;TZID=America/Chicago:20260504T113000
DTSTAMP:20260422T062312
CREATED:20260416T201021Z
LAST-MODIFIED:20260416T201021Z
UID:10001921-1777890600-1777894200@www.visitottawail.com
SUMMARY:Story Time @ the Woodland
DESCRIPTION:Join us at Nell’s Woodland for a nature-themed story time. Enjoy\nstories\, music\, and a craft\, followed by a short hike through the park.\nRegistration is required. To register\, please call the library at (815) 434-\n0509 or stop by the Circulation Desk.
URL:https://www.visitottawail.com/event/story-time-the-woodland-3/
LOCATION:Nell’s Woodland\, 2000 Alexis Ave.\, Ottawa\, IL\, 61350\, United States
CATEGORIES:Entertainment
ATTACH;FMTTYPE=image/webp:https://www.visitottawail.com/wp-content/uploads/2024/04/Nells-bridge.webp
END:VEVENT
BEGIN:VEVENT
DTSTART;TZID=America/Chicago:20260504T171500
DTEND;TZID=America/Chicago:20260504T181500
DTSTAMP:20260422T062312
CREATED:20260416T200135Z
LAST-MODIFIED:20260416T200135Z
UID:10001918-1777914900-1777918500@www.visitottawail.com
SUMMARY:Baby Prom
DESCRIPTION:Dress in your best and join us for musical fun\, (wagon) limo rides\,\nphoto ops\, snacks\, and more! It’ll be a night to remember! This event is\nfor ages 4 and under.
URL:https://www.visitottawail.com/event/baby-prom/
LOCATION:Reddick Public Library\, 1010 Canal Street\, Ottawa\, IL\, 61350\, United States
CATEGORIES:Entertainment
ATTACH;FMTTYPE=image/jpeg:https://www.visitottawail.com/wp-content/uploads/2024/04/reddick-community-and-rack-card-holder-scaled-1.jpeg
END:VEVENT
BEGIN:VEVENT
DTSTART;TZID=America/Chicago:20260505T100000
DTEND;TZID=America/Chicago:20260505T104500
DTSTAMP:20260422T062312
CREATED:20260416T201256Z
LAST-MODIFIED:20260416T201256Z
UID:10001922-1777975200-1777977900@www.visitottawail.com
SUMMARY:Ready\, Set\, Read!
DESCRIPTION:Join us every Tuesday for stories\, songs\, and a craft! Stay and play\nafter the craft if you have time. Find each week’s theme on the events\ncalendar on our website. This event is for children ages 3-5 years.
URL:https://www.visitottawail.com/event/ready-set-read-5/2026-05-05/
LOCATION:Reddick Public Library\, 1010 Canal Street\, Ottawa\, IL\, 61350\, United States
CATEGORIES:Entertainment
ATTACH;FMTTYPE=image/jpeg:https://www.visitottawail.com/wp-content/uploads/2024/04/reddick-library-childrens-books-scaled-1.jpeg
END:VEVENT
BEGIN:VEVENT
DTSTART;TZID=America/Chicago:20260505T163000
DTEND;TZID=America/Chicago:20260505T171500
DTSTAMP:20260422T062312
CREATED:20260416T202720Z
LAST-MODIFIED:20260416T202720Z
UID:10001946-1777998600-1778001300@www.visitottawail.com
SUMMARY:Revenge of the Fifth (Grades K-2)
DESCRIPTION:Explore your dark side at this drop-in event for children in kindergarten to\nsecond grade. There will be crafts and games to enjoy.
URL:https://www.visitottawail.com/event/revenge-of-the-fifth-grades-k-2/
LOCATION:Reddick Public Library\, 1010 Canal Street\, Ottawa\, IL\, 61350\, United States
CATEGORIES:Entertainment
ATTACH;FMTTYPE=image/jpeg:https://www.visitottawail.com/wp-content/uploads/2024/04/reddick-library-scaled-1.jpeg
END:VEVENT
BEGIN:VEVENT
DTSTART;TZID=America/Chicago:20260506T100000
DTEND;TZID=America/Chicago:20260506T104500
DTSTAMP:20260422T062312
CREATED:20260416T201510Z
LAST-MODIFIED:20260416T201510Z
UID:10001926-1778061600-1778064300@www.visitottawail.com
SUMMARY:Shake\, Rattle\, Read!
DESCRIPTION:Join us every Wednesday for stories\, songs\, and a craft! Stay and play\nafter the craft if you have time. Find each week’s theme on the events\ncalendar. This event is for children ages birth to 3 years.
URL:https://www.visitottawail.com/event/shake-rattle-read-3/
LOCATION:Reddick Public Library\, 1010 Canal Street\, Ottawa\, IL\, 61350\, United States
CATEGORIES:Entertainment
ATTACH;FMTTYPE=image/jpeg:https://www.visitottawail.com/wp-content/uploads/2024/04/reddick-library-more-childrens-books-scaled-1.jpeg
END:VEVENT
BEGIN:VEVENT
DTSTART;TZID=America/Chicago:20260506T163000
DTEND;TZID=America/Chicago:20260506T173000
DTSTAMP:20260422T062312
CREATED:20260416T204705Z
LAST-MODIFIED:20260416T204705Z
UID:10001948-1778085000-1778088600@www.visitottawail.com
SUMMARY:DIY No Sew Beverage Cozy
DESCRIPTION:Come join us to make an easy\, no-sew felt cozy to hold onto your\nhot drinks!
URL:https://www.visitottawail.com/event/diy-no-sew-beverage-cozy/
LOCATION:Reddick Public Library\, 1010 Canal Street\, Ottawa\, IL\, 61350\, United States
CATEGORIES:Entertainment
ATTACH;FMTTYPE=image/jpeg:https://www.visitottawail.com/wp-content/uploads/2024/04/reddick-community-and-rack-card-holder-scaled-1.jpeg
END:VEVENT
BEGIN:VEVENT
DTSTART;TZID=America/Chicago:20260507T171500
DTEND;TZID=America/Chicago:20260507T181500
DTSTAMP:20260422T062312
CREATED:20260416T201732Z
LAST-MODIFIED:20260416T201732Z
UID:10001927-1778174100-1778177700@www.visitottawail.com
SUMMARY:Family Story Time: Star Wars
DESCRIPTION:Join us in a galaxy far\, far away for a Star Wars-themed story time! Stay\nafter for a craft and play time if you can. Dressing up is welcome but not\nrequired. This is an all-ages event.
URL:https://www.visitottawail.com/event/family-story-time-star-wars/
LOCATION:Reddick Public Library\, 1010 Canal Street\, Ottawa\, IL\, 61350\, United States
CATEGORIES:Entertainment
ATTACH;FMTTYPE=image/jpeg:https://www.visitottawail.com/wp-content/uploads/2024/04/reddick-library-scaled-1.jpeg
END:VEVENT
BEGIN:VEVENT
DTSTART;TZID=America/Chicago:20260508T100000
DTEND;TZID=America/Chicago:20260508T120000
DTSTAMP:20260422T062312
CREATED:20260420T183355Z
LAST-MODIFIED:20260420T183355Z
UID:10001964-1778234400-1778241600@www.visitottawail.com
SUMMARY:Tech Time
DESCRIPTION:Having issues with technology? Join us for hands-on help from our\nknowledgeable staff! Whether you’re facing issues with the internet\, your\nphone\, or tech accessories\, we’re here to help at this drop-in program.
URL:https://www.visitottawail.com/event/tech-time-3/
LOCATION:Reddick Public Library\, 1010 Canal Street\, Ottawa\, IL\, 61350\, United States
CATEGORIES:Get Educated
ATTACH;FMTTYPE=image/jpeg:https://www.visitottawail.com/wp-content/uploads/2024/04/reddick-study-rooms-scaled-1.jpeg
END:VEVENT
BEGIN:VEVENT
DTSTART;TZID=America/Chicago:20260509T070000
DTEND;TZID=America/Chicago:20260509T100000
DTSTAMP:20260422T062312
CREATED:20260121T172844Z
LAST-MODIFIED:20260420T193858Z
UID:10001659-1778310000-1778320800@www.visitottawail.com
SUMMARY:Starved Rock Marathon
DESCRIPTION:The 2026 Starved Rock Country Marathon\, Half-Marathon\, 10K\, and 5k are a “must-do” event for runners in central Illinois and beyond. These races blend challenging courses with awe-inspiring scenery\, making them an annual favorite in the running community \n  \nThe Starved Rock Country Marathon kicks off in the heart of downtown Ottawa\, a vibrant and historic riverside community. From the starting line\, runners embark on a scenic journey along the Illinois River\, winding through lush landscapes and tranquil views. The course leads participants through the breathtaking trails of Starved Rock State Park\, where towering sandstone bluffs\, challenging elevation changes\, and natural rock formations create a uniquely inspiring backdrop. This picturesque route combines small-town charm with the untamed beauty of nature\, making it a truly unforgettable race experience. \n 
URL:https://www.visitottawail.com/event/starved-rock-marathon/
LOCATION:Downtown Ottawa
CATEGORIES:Entertainment,Historic Downtown,Outdoor,Seasonal
ATTACH;FMTTYPE=image/png:https://www.visitottawail.com/wp-content/uploads/2026/01/SRC-Marathon-Ad-2026-1.png
ORGANIZER;CN="Run SRC":MAILTO:info@runstarvedrockcountry.com
END:VEVENT
BEGIN:VEVENT
DTSTART;TZID=America/Chicago:20260509T090000
DTEND;TZID=America/Chicago:20260509T160000
DTSTAMP:20260422T062312
CREATED:20260130T155222Z
LAST-MODIFIED:20260130T155615Z
UID:10001760-1778317200-1778342400@www.visitottawail.com
SUMMARY:Rusty Halo Mini Market
DESCRIPTION:More details TBA! Parking available in the little town. All vendors will be inside the main Rusty Halo building. Enjoy a unique shopping experience setting in a 1920’s town.
URL:https://www.visitottawail.com/event/rusty-halo-mini-markets/2026-05-09/
LOCATION:Rusty Halo\, 3277 E. 18th Road\, Ottawa\, IL 61350\, Ottawa\, IL\, 61350\, United States
CATEGORIES:Arts,Entertainment,Family,Shopping
ATTACH;FMTTYPE=image/jpeg:https://www.visitottawail.com/wp-content/uploads/2026/01/Ottawa-Visitors-Ctr_20260130_092634-scaled-e1769787998685.jpg
END:VEVENT
BEGIN:VEVENT
DTSTART;TZID=America/Chicago:20260509T110000
DTEND;TZID=America/Chicago:20260509T120000
DTSTAMP:20260422T062312
CREATED:20260416T200517Z
LAST-MODIFIED:20260416T200517Z
UID:10001919-1778324400-1778328000@www.visitottawail.com
SUMMARY:Muffins with Mom
DESCRIPTION:Munch on muffins\, get crafty\, and play games with your favorite mom\nto celebrate Mother’s Day! This is an all-ages event.
URL:https://www.visitottawail.com/event/muffins-with-mom/
LOCATION:Reddick Public Library\, 1010 Canal Street\, Ottawa\, IL\, 61350\, United States
CATEGORIES:Entertainment
ATTACH;FMTTYPE=image/jpeg:https://www.visitottawail.com/wp-content/uploads/2025/06/library-door.jpeg
END:VEVENT
BEGIN:VEVENT
DTSTART;TZID=America/Chicago:20260509T133000
DTEND;TZID=America/Chicago:20260509T153000
DTSTAMP:20260422T062312
CREATED:20260420T183054Z
LAST-MODIFIED:20260420T183054Z
UID:10001960-1778333400-1778340600@www.visitottawail.com
SUMMARY:The Loop Group
DESCRIPTION:Learn to knit or crochet in a friendly environment with knowledgeable people.
URL:https://www.visitottawail.com/event/the-loop-group-3/2026-05-09/
LOCATION:Reddick Public Library\, 1010 Canal Street\, Ottawa\, IL\, 61350\, United States
CATEGORIES:Entertainment,Get Educated
ATTACH;FMTTYPE=image/jpeg:https://www.visitottawail.com/wp-content/uploads/2024/09/th.jpg
END:VEVENT
BEGIN:VEVENT
DTSTART;TZID=America/Chicago:20260512T100000
DTEND;TZID=America/Chicago:20260512T104500
DTSTAMP:20260422T062312
CREATED:20260416T201256Z
LAST-MODIFIED:20260416T201256Z
UID:10001923-1778580000-1778582700@www.visitottawail.com
SUMMARY:Ready\, Set\, Read!
DESCRIPTION:Join us every Tuesday for stories\, songs\, and a craft! Stay and play\nafter the craft if you have time. Find each week’s theme on the events\ncalendar on our website. This event is for children ages 3-5 years.
URL:https://www.visitottawail.com/event/ready-set-read-5/2026-05-12/
LOCATION:Reddick Public Library\, 1010 Canal Street\, Ottawa\, IL\, 61350\, United States
CATEGORIES:Entertainment
ATTACH;FMTTYPE=image/jpeg:https://www.visitottawail.com/wp-content/uploads/2024/04/reddick-library-childrens-books-scaled-1.jpeg
END:VEVENT
BEGIN:VEVENT
DTSTART;TZID=America/Chicago:20260512T140000
DTEND;TZID=America/Chicago:20260512T150000
DTSTAMP:20260422T062312
CREATED:20260416T201944Z
LAST-MODIFIED:20260416T201944Z
UID:10001928-1778594400-1778598000@www.visitottawail.com
SUMMARY:Community Garden: Tomato Planting
DESCRIPTION:Join us for an update on our salad garden progress! We’ll check on our\nleafy greens and add some tomatoes to the garden. This event will take\nplace in our Community Garden located on Fulton Street and is open\nto all ages.
URL:https://www.visitottawail.com/event/community-garden-tomato-planting/
LOCATION:Reddick Public Library\, 1010 Canal Street\, Ottawa\, IL\, 61350\, United States
CATEGORIES:Entertainment
ATTACH;FMTTYPE=image/jpeg:https://www.visitottawail.com/wp-content/uploads/2024/04/reddick-community-scaled-1.jpeg
END:VEVENT
BEGIN:VEVENT
DTSTART;TZID=America/Chicago:20260513T190000
DTEND;TZID=America/Chicago:20260513T203000
DTSTAMP:20260422T062312
CREATED:20260420T183848Z
LAST-MODIFIED:20260420T183848Z
UID:10001965-1778698800-1778704200@www.visitottawail.com
SUMMARY:Wednesday Evening Book Group
DESCRIPTION:Culpability by Bruce Holsinger will be discussed at this patron-led book\ngroup.
URL:https://www.visitottawail.com/event/wednesday-evening-book-group/
LOCATION:Reddick Public Library\, 1010 Canal Street\, Ottawa\, IL\, 61350\, United States
CATEGORIES:Entertainment
ATTACH;FMTTYPE=image/jpeg:https://www.visitottawail.com/wp-content/uploads/2024/04/reddick-library-adult-books-scaled-1.jpeg
END:VEVENT
BEGIN:VEVENT
DTSTART;TZID=America/Chicago:20260514T163000
DTEND;TZID=America/Chicago:20260514T171500
DTSTAMP:20260422T062312
CREATED:20260416T192056Z
LAST-MODIFIED:20260416T192056Z
UID:10001916-1778776200-1778778900@www.visitottawail.com
SUMMARY:Bike STEM (Grades 3-6)
DESCRIPTION:Your bike is missing and your friends are off on adventures!\nYour challenge is to build a miniature bicycle that works.
URL:https://www.visitottawail.com/event/bike-stem-grades-3-6/
LOCATION:Reddick Public Library\, 1010 Canal Street\, Ottawa\, IL\, 61350\, United States
CATEGORIES:Entertainment,Get Educated
ATTACH;FMTTYPE=image/jpeg:https://www.visitottawail.com/wp-content/uploads/2024/04/reddick-library-scaled-1.jpeg
END:VEVENT
BEGIN:VEVENT
DTSTART;TZID=America/Chicago:20260514T180000
DTEND;TZID=America/Chicago:20260514T203000
DTSTAMP:20260422T062312
CREATED:20260420T184038Z
LAST-MODIFIED:20260420T184038Z
UID:10001966-1778781600-1778790600@www.visitottawail.com
SUMMARY:D&D at the Library
DESCRIPTION:Calling all bards\, druids\, wizards\, and everything in-between! Whether you are\nnew or are looking to meet fellow players\, join us for some Dungeons & Dragons\ngame play and basics. This event is presented in collaboration with Goblin\nGaming LLC.
URL:https://www.visitottawail.com/event/dd-at-the-library/
LOCATION:Reddick Public Library\, 1010 Canal Street\, Ottawa\, IL\, 61350\, United States
CATEGORIES:Entertainment
ATTACH;FMTTYPE=image/jpeg:https://www.visitottawail.com/wp-content/uploads/2024/04/reddick-community-scaled-1.jpeg
END:VEVENT
BEGIN:VEVENT
DTSTART;TZID=America/Chicago:20260515T170000
DTEND;TZID=America/Chicago:20260515T210000
DTSTAMP:20260422T062312
CREATED:20260121T172340Z
LAST-MODIFIED:20260408T135426Z
UID:10001654-1778864400-1778878800@www.visitottawail.com
SUMMARY:Ottawa's Third Friday Maker's Market
DESCRIPTION:Arts’ culture and entertainment come alive in downtown Ottawa\, IL every Third Friday of the month May – September!
URL:https://www.visitottawail.com/event/ottawas-third-friday-makers-market/2026-05-15/
LOCATION:Madison Street
CATEGORIES:Arts,Entertainment,Family,Festivals,Kids Corner,Live Music,Outdoor,Seasonal,Shopping
ATTACH;FMTTYPE=image/jpeg:https://www.visitottawail.com/wp-content/uploads/2026/01/2026-3rdfriday.jpg
ORGANIZER;CN="Third Friday Makers Market":MAILTO:openspaceartgallery@gmail.com
END:VEVENT
BEGIN:VEVENT
DTSTART;TZID=America/Chicago:20260516T090000
DTEND;TZID=America/Chicago:20260516T170000
DTSTAMP:20260422T062312
CREATED:20260416T202204Z
LAST-MODIFIED:20260416T202204Z
UID:10001929-1778922000-1778950800@www.visitottawail.com
SUMMARY:Escape the Study Room: Mission to the Moon
DESCRIPTION:It’s T-45 before launching to the Moon. Can you and your crew solve the\nriddles before liftoff? Walk in or reserve a room in advance to play the\ngame and win a prize!
URL:https://www.visitottawail.com/event/escape-the-study-room-mission-to-the-moon/2026-05-16/
LOCATION:Reddick Public Library\, 1010 Canal Street\, Ottawa\, IL\, 61350\, United States
CATEGORIES:Entertainment
ATTACH;FMTTYPE=image/jpeg:https://www.visitottawail.com/wp-content/uploads/2024/04/reddick-study-rooms-scaled-1.jpeg
END:VEVENT
BEGIN:VEVENT
DTSTART;TZID=America/Chicago:20260516T110000
DTEND;TZID=America/Chicago:20260516T150000
DTSTAMP:20260422T062312
CREATED:20260121T173806Z
LAST-MODIFIED:20260406T150552Z
UID:10001774-1778929200-1778943600@www.visitottawail.com
SUMMARY:Kites in Flight 2026
DESCRIPTION:Kites in Flight 2026\nLook to the skies and celebrate a beloved community tradition at Kites in Flight\, returning for its 6th year at Peck Park in Ottawa\, Illinois! \nHosted by the Ottawa Visitor Center and The Exploreum Children’s Museum\, Kites in Flight is a two-day\, family-friendly outdoor festival filled with color\, creativity\, and high-flying fun. Join us May 16 & 17\, 2026\, from 11:00 AM to 3:00 PM both days\, for an unforgettable spring weekend. \nOne of the event’s highlights is the return of Chicago Kite\, whose professional kite flyers transform the sky into a breathtaking display of motion and color. Kite flying and kite demonstrations are free for everyone to enjoy\, making this a perfect event for all ages. \nIn addition to kite flying\, the festival features a variety of kids and family activities\, live entertainment\, food vendors\, craft vendors\, and community partners throughout the park. Access to these additional activities is available through a $5 daily wristband\, helping support expanded programming and the continued growth of the event. \nWhether you’re flying a kite\, watching the pros soar overhead\, enjoying local food and shopping\, or simply relaxing outdoors with family and friends\, Kites in Flight offers something for everyone. \nCome be part of a six-year tradition that brings our community together — and help us make Kites in Flight 2026 our best year yet! \nVendor Application\nIf you’d like to be a vendor\, you can use this QR code to find the form. Questions? Contact the office at (815) 434-2737
URL:https://www.visitottawail.com/event/kites-in-flight-2026/2026-05-16/
LOCATION:Peck Park\, 1498 State St.\, Ottawa\, IL\, 61350
CATEGORIES:Entertainment,Family,Festivals,Kids Corner,Live Music,Outdoor,Seasonal
ATTACH;FMTTYPE=image/jpeg:https://www.visitottawail.com/wp-content/uploads/2026/01/kites-11-x-17-in-7.jpg
END:VEVENT
BEGIN:VEVENT
DTSTART;TZID=America/Chicago:20260516T133000
DTEND;TZID=America/Chicago:20260516T153000
DTSTAMP:20260422T062312
CREATED:20260420T183054Z
LAST-MODIFIED:20260420T183054Z
UID:10001961-1778938200-1778945400@www.visitottawail.com
SUMMARY:The Loop Group
DESCRIPTION:Learn to knit or crochet in a friendly environment with knowledgeable people.
URL:https://www.visitottawail.com/event/the-loop-group-3/2026-05-16/
LOCATION:Reddick Public Library\, 1010 Canal Street\, Ottawa\, IL\, 61350\, United States
CATEGORIES:Entertainment,Get Educated
ATTACH;FMTTYPE=image/jpeg:https://www.visitottawail.com/wp-content/uploads/2024/09/th.jpg
END:VEVENT
BEGIN:VEVENT
DTSTART;TZID=America/Chicago:20260517T090000
DTEND;TZID=America/Chicago:20260517T170000
DTSTAMP:20260422T062312
CREATED:20260416T202204Z
LAST-MODIFIED:20260416T202204Z
UID:10001930-1779008400-1779037200@www.visitottawail.com
SUMMARY:Escape the Study Room: Mission to the Moon
DESCRIPTION:It’s T-45 before launching to the Moon. Can you and your crew solve the\nriddles before liftoff? Walk in or reserve a room in advance to play the\ngame and win a prize!
URL:https://www.visitottawail.com/event/escape-the-study-room-mission-to-the-moon/2026-05-17/
LOCATION:Reddick Public Library\, 1010 Canal Street\, Ottawa\, IL\, 61350\, United States
CATEGORIES:Entertainment
ATTACH;FMTTYPE=image/jpeg:https://www.visitottawail.com/wp-content/uploads/2024/04/reddick-study-rooms-scaled-1.jpeg
END:VEVENT
BEGIN:VEVENT
DTSTART;TZID=America/Chicago:20260517T110000
DTEND;TZID=America/Chicago:20260517T150000
DTSTAMP:20260422T062312
CREATED:20260121T173806Z
LAST-MODIFIED:20260406T150552Z
UID:10001775-1779015600-1779030000@www.visitottawail.com
SUMMARY:Kites in Flight 2026
DESCRIPTION:Kites in Flight 2026\nLook to the skies and celebrate a beloved community tradition at Kites in Flight\, returning for its 6th year at Peck Park in Ottawa\, Illinois! \nHosted by the Ottawa Visitor Center and The Exploreum Children’s Museum\, Kites in Flight is a two-day\, family-friendly outdoor festival filled with color\, creativity\, and high-flying fun. Join us May 16 & 17\, 2026\, from 11:00 AM to 3:00 PM both days\, for an unforgettable spring weekend. \nOne of the event’s highlights is the return of Chicago Kite\, whose professional kite flyers transform the sky into a breathtaking display of motion and color. Kite flying and kite demonstrations are free for everyone to enjoy\, making this a perfect event for all ages. \nIn addition to kite flying\, the festival features a variety of kids and family activities\, live entertainment\, food vendors\, craft vendors\, and community partners throughout the park. Access to these additional activities is available through a $5 daily wristband\, helping support expanded programming and the continued growth of the event. \nWhether you’re flying a kite\, watching the pros soar overhead\, enjoying local food and shopping\, or simply relaxing outdoors with family and friends\, Kites in Flight offers something for everyone. \nCome be part of a six-year tradition that brings our community together — and help us make Kites in Flight 2026 our best year yet! \nVendor Application\nIf you’d like to be a vendor\, you can use this QR code to find the form. Questions? Contact the office at (815) 434-2737
URL:https://www.visitottawail.com/event/kites-in-flight-2026/2026-05-17/
LOCATION:Peck Park\, 1498 State St.\, Ottawa\, IL\, 61350
CATEGORIES:Entertainment,Family,Festivals,Kids Corner,Live Music,Outdoor,Seasonal
ATTACH;FMTTYPE=image/jpeg:https://www.visitottawail.com/wp-content/uploads/2026/01/kites-11-x-17-in-7.jpg
END:VEVENT
BEGIN:VEVENT
DTSTART;TZID=America/Chicago:20260517T133000
DTEND;TZID=America/Chicago:20260517T153000
DTSTAMP:20260422T062313
CREATED:20260416T204918Z
LAST-MODIFIED:20260416T204918Z
UID:10001949-1779024600-1779031800@www.visitottawail.com
SUMMARY:Teen Movie Theater
DESCRIPTION:Join us for popcorn and a movie! This month\, we’re watching Easy A (PG-13).
URL:https://www.visitottawail.com/event/teen-movie-theater-3/
LOCATION:Reddick Public Library\, 1010 Canal Street\, Ottawa\, IL\, 61350\, United States
CATEGORIES:Entertainment
ATTACH;FMTTYPE=image/jpeg:https://www.visitottawail.com/wp-content/uploads/2024/04/reddick-community-scaled-1.jpeg
END:VEVENT
BEGIN:VEVENT
DTSTART;TZID=America/Chicago:20260518T090000
DTEND;TZID=America/Chicago:20260518T170000
DTSTAMP:20260422T062313
CREATED:20260416T202204Z
LAST-MODIFIED:20260416T202204Z
UID:10001931-1779094800-1779123600@www.visitottawail.com
SUMMARY:Escape the Study Room: Mission to the Moon
DESCRIPTION:It’s T-45 before launching to the Moon. Can you and your crew solve the\nriddles before liftoff? Walk in or reserve a room in advance to play the\ngame and win a prize!
URL:https://www.visitottawail.com/event/escape-the-study-room-mission-to-the-moon/2026-05-18/
LOCATION:Reddick Public Library\, 1010 Canal Street\, Ottawa\, IL\, 61350\, United States
CATEGORIES:Entertainment
ATTACH;FMTTYPE=image/jpeg:https://www.visitottawail.com/wp-content/uploads/2024/04/reddick-study-rooms-scaled-1.jpeg
END:VEVENT
BEGIN:VEVENT
DTSTART;TZID=America/Chicago:20260518T100000
DTEND;TZID=America/Chicago:20260518T110000
DTSTAMP:20260422T062313
CREATED:20260416T202346Z
LAST-MODIFIED:20260416T202346Z
UID:10001944-1779098400-1779102000@www.visitottawail.com
SUMMARY:Homeschool Art
DESCRIPTION:We will be learning the art of decoupage and collage to create\nunique pieces of art! Wear clothes you don’t mind getting messy!
URL:https://www.visitottawail.com/event/homeschool-art-3/
LOCATION:Reddick Public Library\, 1010 Canal Street\, Ottawa\, IL\, 61350\, United States
CATEGORIES:Entertainment,Get Educated
ATTACH;FMTTYPE=image/jpeg:https://www.visitottawail.com/wp-content/uploads/2024/04/Reddick-Study-A-B-and-C-scaled-1.jpeg
END:VEVENT
BEGIN:VEVENT
DTSTART;TZID=America/Chicago:20260518T130000
DTEND;TZID=America/Chicago:20260518T140000
DTSTAMP:20260422T062313
CREATED:20260420T184443Z
LAST-MODIFIED:20260420T184443Z
UID:10001967-1779109200-1779112800@www.visitottawail.com
SUMMARY:Mystery Monday Book Club: Little Fires Everywhere by Celeste Ng
DESCRIPTION:New members are always welcome to join this librarian-led book club. Copies of\nthe book will be available for check out from the library.\nBook summary: When friends attempt to adopt a Chinese-American baby\, a\ncustody battle erupts that dramatically divides the town and puts close friends\,\nMia and Elena\, on opposing sides. Suspicious of Mia and her motives\, Elena\nis determined to uncover the secrets in Mia’s past. But her obsession will come at\nan unexpected and devastating cost.
URL:https://www.visitottawail.com/event/mystery-monday-book-club-little-fires-everywhere-by-celeste-ng/
LOCATION:Reddick Public Library\, 1010 Canal Street\, Ottawa\, IL\, 61350\, United States
CATEGORIES:Entertainment
ATTACH;FMTTYPE=image/jpeg:https://www.visitottawail.com/wp-content/uploads/2024/04/reddick-library-adult-books-scaled-1.jpeg
END:VEVENT
BEGIN:VEVENT
DTSTART;TZID=America/Chicago:20260518T173000
DTEND;TZID=America/Chicago:20260518T193000
DTSTAMP:20260422T062313
CREATED:20260416T205120Z
LAST-MODIFIED:20260416T205120Z
UID:10001950-1779125400-1779132600@www.visitottawail.com
SUMMARY:Dungeons & Dragons
DESCRIPTION:Discover the adventure your Dungeon Master has crafted for you. Will you\nendure? Will you achieve your objectives?
URL:https://www.visitottawail.com/event/dungeons-dragons-4/
LOCATION:Reddick Public Library\, 1010 Canal Street\, Ottawa\, IL\, 61350\, United States
CATEGORIES:Entertainment
ATTACH;FMTTYPE=image/jpeg:https://www.visitottawail.com/wp-content/uploads/2024/04/reddick-community-and-rack-card-holder-scaled-1.jpeg
END:VEVENT
BEGIN:VEVENT
DTSTART;TZID=America/Chicago:20260519T090000
DTEND;TZID=America/Chicago:20260519T170000
DTSTAMP:20260422T062313
CREATED:20260416T202204Z
LAST-MODIFIED:20260416T202204Z
UID:10001932-1779181200-1779210000@www.visitottawail.com
SUMMARY:Escape the Study Room: Mission to the Moon
DESCRIPTION:It’s T-45 before launching to the Moon. Can you and your crew solve the\nriddles before liftoff? Walk in or reserve a room in advance to play the\ngame and win a prize!
URL:https://www.visitottawail.com/event/escape-the-study-room-mission-to-the-moon/2026-05-19/
LOCATION:Reddick Public Library\, 1010 Canal Street\, Ottawa\, IL\, 61350\, United States
CATEGORIES:Entertainment
ATTACH;FMTTYPE=image/jpeg:https://www.visitottawail.com/wp-content/uploads/2024/04/reddick-study-rooms-scaled-1.jpeg
END:VEVENT
END:VCALENDAR