BEGIN:VCALENDAR
VERSION:2.0
PRODID:-//Ottawa, IL - The Middle of Everywhere - ECPv6.15.20//NONSGML v1.0//EN
CALSCALE:GREGORIAN
METHOD:PUBLISH
X-ORIGINAL-URL:https://www.visitottawail.com
X-WR-CALDESC:Events for Ottawa, IL - The Middle of Everywhere
REFRESH-INTERVAL;VALUE=DURATION:PT1H
X-Robots-Tag:noindex
X-PUBLISHED-TTL:PT1H
BEGIN:VTIMEZONE
TZID:America/Chicago
BEGIN:DAYLIGHT
TZOFFSETFROM:-0600
TZOFFSETTO:-0500
TZNAME:CDT
DTSTART:20250309T080000
END:DAYLIGHT
BEGIN:STANDARD
TZOFFSETFROM:-0500
TZOFFSETTO:-0600
TZNAME:CST
DTSTART:20251102T070000
END:STANDARD
BEGIN:DAYLIGHT
TZOFFSETFROM:-0600
TZOFFSETTO:-0500
TZNAME:CDT
DTSTART:20260308T080000
END:DAYLIGHT
BEGIN:STANDARD
TZOFFSETFROM:-0500
TZOFFSETTO:-0600
TZNAME:CST
DTSTART:20261101T070000
END:STANDARD
BEGIN:DAYLIGHT
TZOFFSETFROM:-0600
TZOFFSETTO:-0500
TZNAME:CDT
DTSTART:20270314T080000
END:DAYLIGHT
BEGIN:STANDARD
TZOFFSETFROM:-0500
TZOFFSETTO:-0600
TZNAME:CST
DTSTART:20271107T070000
END:STANDARD
END:VTIMEZONE
BEGIN:VEVENT
DTSTART;TZID=America/Chicago:20260427T100000
DTEND;TZID=America/Chicago:20260427T110000
DTSTAMP:20260424T105047
CREATED:20260319T152608Z
LAST-MODIFIED:20260319T152608Z
UID:10001876-1777284000-1777287600@www.visitottawail.com
SUMMARY:Homeschool Art
DESCRIPTION:We will be learning the art of printmaking. Explore different\ntechniques and then put what you’ve learned to use to create your own unique\nartwork. Be sure to wear clothing you don’t mind getting messy. Funding for\nthis event was provided in part by the Illinois Arts Council and the Starved Rock\nCounty Community Foundation.
URL:https://www.visitottawail.com/event/homeschool-art-2/
LOCATION:Reddick Public Library\, 1010 Canal Street\, Ottawa\, IL\, 61350\, United States
CATEGORIES:Get Educated
ATTACH;FMTTYPE=image/jpeg:https://www.visitottawail.com/wp-content/uploads/2024/04/reddick-library-scaled-1.jpeg
END:VEVENT
END:VCALENDAR