BEGIN:VCALENDAR
VERSION:2.0
PRODID:-//Ottawa, IL - The Middle of Everywhere - ECPv6.15.20//NONSGML v1.0//EN
CALSCALE:GREGORIAN
METHOD:PUBLISH
X-WR-CALNAME:Ottawa, IL - The Middle of Everywhere
X-ORIGINAL-URL:https://www.visitottawail.com
X-WR-CALDESC:Events for Ottawa, IL - The Middle of Everywhere
REFRESH-INTERVAL;VALUE=DURATION:PT1H
X-Robots-Tag:noindex
X-PUBLISHED-TTL:PT1H
BEGIN:VTIMEZONE
TZID:America/Chicago
BEGIN:DAYLIGHT
TZOFFSETFROM:-0600
TZOFFSETTO:-0500
TZNAME:CDT
DTSTART:20250309T080000
END:DAYLIGHT
BEGIN:STANDARD
TZOFFSETFROM:-0500
TZOFFSETTO:-0600
TZNAME:CST
DTSTART:20251102T070000
END:STANDARD
BEGIN:DAYLIGHT
TZOFFSETFROM:-0600
TZOFFSETTO:-0500
TZNAME:CDT
DTSTART:20260308T080000
END:DAYLIGHT
BEGIN:STANDARD
TZOFFSETFROM:-0500
TZOFFSETTO:-0600
TZNAME:CST
DTSTART:20261101T070000
END:STANDARD
BEGIN:DAYLIGHT
TZOFFSETFROM:-0600
TZOFFSETTO:-0500
TZNAME:CDT
DTSTART:20270314T080000
END:DAYLIGHT
BEGIN:STANDARD
TZOFFSETFROM:-0500
TZOFFSETTO:-0600
TZNAME:CST
DTSTART:20271107T070000
END:STANDARD
END:VTIMEZONE
BEGIN:VEVENT
DTSTART;TZID=America/Chicago:20260425T090000
DTEND;TZID=America/Chicago:20260425T100000
DTSTAMP:20260424T101302
CREATED:20250908T204124Z
LAST-MODIFIED:20250908T204124Z
UID:10001062-1777107600-1777111200@www.visitottawail.com
SUMMARY:parkrun
DESCRIPTION:Heritage Harbor parkrun\, Ottawa is a FREE weekly 5k event for participants of all standards\, which takes place every Saturday at 8:00 AM\, May – September\, & 9:00 AM\, October – April\, in Heritage Harbor. It offers an opportunity for all the local community\, regardless of age or gender\, to come together on a regular basis to enjoy the outdoors and get physically active. We want to encourage people to run\, jog\, walk and volunteer together – this event is truly open to all and best of all it really is FREE! Taking part is easy – just register before your first ever parkrun. The great thing is that you only ever need to do this once! Then just set your alarm for Saturday morning and get yourself there! Every week we grab a post parkrun coffee in the Bluegill Boathouse & Marina Bar – please come and join us! Maybe swap stories about your parkrun that day\, chat to other parkrunners over a cup of tea or coffee and just be an part of this community. So whether you’re a complete novice looking to get yourself started or a regular wanting to use this as a part of your training schedule\, you’re welcome to come along and join us. Please register before you first come along. Only ever register with parkrun once and don’t forget to bring a scannable copy of your barcode (request a reminder). If you forget it\, you won’t get a time. You can visit the event website link to register.
URL:https://www.visitottawail.com/event/parkrun-9/2026-04-25/
LOCATION:Heritage Harbor Ottawa\, 2 Great Loop\, Ottawa\, IL\, 61350\, United States
CATEGORIES:Family,Outdoor
ATTACH;FMTTYPE=image/png:https://www.visitottawail.com/wp-content/uploads/2025/01/Run-Walk-Jog-FREE-Timed-5k.png
END:VEVENT
BEGIN:VEVENT
DTSTART;TZID=America/Chicago:20260425T090000
DTEND;TZID=America/Chicago:20260425T170000
DTSTAMP:20260424T101302
CREATED:20260225T161206Z
LAST-MODIFIED:20260225T161206Z
UID:10001777-1777107600-1777136400@www.visitottawail.com
SUMMARY:2026 Boater Safety Courses
DESCRIPTION:*Free IDNR Approved Boater Safety Classes* (Advanced registration required) \nThis 8-hour class is required to complete your certification. Open to anyone 12 and over. Students under age of 16 must be accompanied by an adult. \nDid you know: Anyone born on or after January 1st\, 1998 who operates a vehicle powered by a motor of 10 horsepower or more needs to complete an IDNR approved boater safety class \nThis class is recommended for: \n\nNew boaters\nFamilies that enjoy boating\nSeasoned boaters who would like to brush up on rules and regulations\n\nParticipants should bring their own snacks\, lunch\, and drinks. Class materials will be provided. Call to register today! \nCourse Dates: \nApril 25\, 9am to 5pm \nMay 23\, 9am to 5pm \nJune 20\, 9am to 5pm \nJuly 11\, 9am to 5pm \nAugust 15\, 9am to 5pm
URL:https://www.visitottawail.com/event/2026-boater-safety-courses/2026-04-25/
LOCATION:Illinois Waterway Visitor Center\, 950 N 27th Rd\, Ottawa\, IL\, 61350\, United States
CATEGORIES:Family,Get Educated,Outdoor,Seasonal,Sports
ATTACH;FMTTYPE=image/png:https://www.visitottawail.com/wp-content/uploads/2026/02/2026-Safe-Boater-Class-Flyer-scaled.png
END:VEVENT
BEGIN:VEVENT
DTSTART;TZID=America/Chicago:20260425T100000
DTEND;TZID=America/Chicago:20260425T113000
DTSTAMP:20260424T101302
CREATED:20260319T162034Z
LAST-MODIFIED:20260319T162034Z
UID:10001904-1777111200-1777116600@www.visitottawail.com
SUMMARY:Crafter Hours: Pressed Flower Frame
DESCRIPTION:Come make a frame decorated with pressed flowers. Registration is\nrequired as spots are limited due to the availability of supplies. To register for\nthis class\, visit our events page\, call the library @ (815) 434-0509\, or stop by the\nCirculation Desk.
URL:https://www.visitottawail.com/event/crafter-hours-pressed-flower-frame/
LOCATION:Reddick Public Library\, 1010 Canal Street\, Ottawa\, IL\, 61350\, United States
CATEGORIES:Entertainment
ATTACH;FMTTYPE=image/jpeg:https://www.visitottawail.com/wp-content/uploads/2024/04/reddick-community-and-rack-card-holder-scaled-1.jpeg
END:VEVENT
BEGIN:VEVENT
DTSTART;TZID=America/Chicago:20260425T133000
DTEND;TZID=America/Chicago:20260425T153000
DTSTAMP:20260424T101302
CREATED:20260319T162618Z
LAST-MODIFIED:20260319T162618Z
UID:10001909-1777123800-1777131000@www.visitottawail.com
SUMMARY:The Loop Group
DESCRIPTION:Learn to knit or crochet in a friendly environment with knowledgeable\npeople.
URL:https://www.visitottawail.com/event/the-loop-group-2/2026-04-25/
LOCATION:Reddick Public Library\, 1010 Canal Street\, Ottawa\, IL\, 61350\, United States
CATEGORIES:Entertainment
ATTACH;FMTTYPE=image/jpeg:https://www.visitottawail.com/wp-content/uploads/2024/09/th.jpg
END:VEVENT
END:VCALENDAR