BEGIN:VCALENDAR
VERSION:2.0
PRODID:-//Ottawa, IL - The Middle of Everywhere - ECPv6.15.20//NONSGML v1.0//EN
CALSCALE:GREGORIAN
METHOD:PUBLISH
X-WR-CALNAME:Ottawa, IL - The Middle of Everywhere
X-ORIGINAL-URL:https://www.visitottawail.com
X-WR-CALDESC:Events for Ottawa, IL - The Middle of Everywhere
REFRESH-INTERVAL;VALUE=DURATION:PT1H
X-Robots-Tag:noindex
X-PUBLISHED-TTL:PT1H
BEGIN:VTIMEZONE
TZID:America/Chicago
BEGIN:DAYLIGHT
TZOFFSETFROM:-0600
TZOFFSETTO:-0500
TZNAME:CDT
DTSTART:20250309T080000
END:DAYLIGHT
BEGIN:STANDARD
TZOFFSETFROM:-0500
TZOFFSETTO:-0600
TZNAME:CST
DTSTART:20251102T070000
END:STANDARD
BEGIN:DAYLIGHT
TZOFFSETFROM:-0600
TZOFFSETTO:-0500
TZNAME:CDT
DTSTART:20260308T080000
END:DAYLIGHT
BEGIN:STANDARD
TZOFFSETFROM:-0500
TZOFFSETTO:-0600
TZNAME:CST
DTSTART:20261101T070000
END:STANDARD
BEGIN:DAYLIGHT
TZOFFSETFROM:-0600
TZOFFSETTO:-0500
TZNAME:CDT
DTSTART:20270314T080000
END:DAYLIGHT
BEGIN:STANDARD
TZOFFSETFROM:-0500
TZOFFSETTO:-0600
TZNAME:CST
DTSTART:20271107T070000
END:STANDARD
END:VTIMEZONE
BEGIN:VEVENT
DTSTART;TZID=America/Chicago:20260423T163000
DTEND;TZID=America/Chicago:20260423T171500
DTSTAMP:20260424T102541
CREATED:20260319T154613Z
LAST-MODIFIED:20260319T154613Z
UID:10001890-1776961800-1776964500@www.visitottawail.com
SUMMARY:Kid’s Book Club (Grades K-3)
DESCRIPTION:At this month’s book club\, we will be discussing The Creature of Habit by\nJennifer E. Smith and making a craft to go along with the story. Copies of the\nbook will be available for checkout in the Children’s Department.
URL:https://www.visitottawail.com/event/kids-book-club-grades-k-3-3/
LOCATION:Reddick Public Library\, 1010 Canal Street\, Ottawa\, IL\, 61350\, United States
CATEGORIES:Entertainment,Get Educated
ATTACH;FMTTYPE=image/jpeg:https://www.visitottawail.com/wp-content/uploads/2024/04/reddick-library-childrens-books-scaled-1.jpeg
END:VEVENT
BEGIN:VEVENT
DTSTART;TZID=America/Chicago:20260423T180000
DTEND;TZID=America/Chicago:20260423T190000
DTSTAMP:20260424T102541
CREATED:20260319T161639Z
LAST-MODIFIED:20260319T161639Z
UID:10001902-1776967200-1776970800@www.visitottawail.com
SUMMARY:Introduction to Food Preservation
DESCRIPTION:Join Susan Glassman\, University of Illinois Extension’s Health and Wellness\nEducator\, for an introductory class on food preservation. She’ll share tips for\nfood preservation safety\, different ways to preserve your food\, and much more.
URL:https://www.visitottawail.com/event/introduction-to-food-preservation/
LOCATION:Reddick Public Library\, 1010 Canal Street\, Ottawa\, IL\, 61350\, United States
CATEGORIES:Get Educated
ATTACH;FMTTYPE=image/jpeg:https://www.visitottawail.com/wp-content/uploads/2024/04/Reddick-Study-A-B-and-C-scaled-1.jpeg
END:VEVENT
END:VCALENDAR