BEGIN:VCALENDAR
VERSION:2.0
PRODID:-//Ottawa, IL - The Middle of Everywhere - ECPv6.15.20//NONSGML v1.0//EN
CALSCALE:GREGORIAN
METHOD:PUBLISH
X-ORIGINAL-URL:https://www.visitottawail.com
X-WR-CALDESC:Events for Ottawa, IL - The Middle of Everywhere
REFRESH-INTERVAL;VALUE=DURATION:PT1H
X-Robots-Tag:noindex
X-PUBLISHED-TTL:PT1H
BEGIN:VTIMEZONE
TZID:America/Chicago
BEGIN:DAYLIGHT
TZOFFSETFROM:-0600
TZOFFSETTO:-0500
TZNAME:CDT
DTSTART:20250309T080000
END:DAYLIGHT
BEGIN:STANDARD
TZOFFSETFROM:-0500
TZOFFSETTO:-0600
TZNAME:CST
DTSTART:20251102T070000
END:STANDARD
BEGIN:DAYLIGHT
TZOFFSETFROM:-0600
TZOFFSETTO:-0500
TZNAME:CDT
DTSTART:20260308T080000
END:DAYLIGHT
BEGIN:STANDARD
TZOFFSETFROM:-0500
TZOFFSETTO:-0600
TZNAME:CST
DTSTART:20261101T070000
END:STANDARD
BEGIN:DAYLIGHT
TZOFFSETFROM:-0600
TZOFFSETTO:-0500
TZNAME:CDT
DTSTART:20270314T080000
END:DAYLIGHT
BEGIN:STANDARD
TZOFFSETFROM:-0500
TZOFFSETTO:-0600
TZNAME:CST
DTSTART:20271107T070000
END:STANDARD
END:VTIMEZONE
BEGIN:VEVENT
DTSTART;VALUE=DATE:20260411
DTEND;VALUE=DATE:20260412
DTSTAMP:20260424T102846
CREATED:20260302T172152Z
LAST-MODIFIED:20260302T172152Z
UID:10001826-1775865600-1775951999@www.visitottawail.com
SUMMARY:Escape the Study Room Game-Rescue Peter Rabbit
DESCRIPTION:Are you quick enough to solve the riddles that will free Peter Rabbit ffrom Mr. McGregor’s garden? Help Peter escape and win a prize.
URL:https://www.visitottawail.com/event/escape-the-study-room-game-rescue-peter-rabbit/2026-04-11/
LOCATION:Reddick Public Library\, 1010 Canal Street\, Ottawa\, IL\, 61350\, United States
CATEGORIES:Entertainment
ATTACH;FMTTYPE=image/jpeg:https://www.visitottawail.com/wp-content/uploads/2025/06/library-door.jpeg
END:VEVENT
BEGIN:VEVENT
DTSTART;TZID=America/Chicago:20260411T090000
DTEND;TZID=America/Chicago:20260411T100000
DTSTAMP:20260424T102846
CREATED:20250908T204124Z
LAST-MODIFIED:20250908T204124Z
UID:10001060-1775898000-1775901600@www.visitottawail.com
SUMMARY:parkrun
DESCRIPTION:Heritage Harbor parkrun\, Ottawa is a FREE weekly 5k event for participants of all standards\, which takes place every Saturday at 8:00 AM\, May – September\, & 9:00 AM\, October – April\, in Heritage Harbor. It offers an opportunity for all the local community\, regardless of age or gender\, to come together on a regular basis to enjoy the outdoors and get physically active. We want to encourage people to run\, jog\, walk and volunteer together – this event is truly open to all and best of all it really is FREE! Taking part is easy – just register before your first ever parkrun. The great thing is that you only ever need to do this once! Then just set your alarm for Saturday morning and get yourself there! Every week we grab a post parkrun coffee in the Bluegill Boathouse & Marina Bar – please come and join us! Maybe swap stories about your parkrun that day\, chat to other parkrunners over a cup of tea or coffee and just be an part of this community. So whether you’re a complete novice looking to get yourself started or a regular wanting to use this as a part of your training schedule\, you’re welcome to come along and join us. Please register before you first come along. Only ever register with parkrun once and don’t forget to bring a scannable copy of your barcode (request a reminder). If you forget it\, you won’t get a time. You can visit the event website link to register.
URL:https://www.visitottawail.com/event/parkrun-9/2026-04-11/
LOCATION:Heritage Harbor Ottawa\, 2 Great Loop\, Ottawa\, IL\, 61350\, United States
CATEGORIES:Family,Outdoor
ATTACH;FMTTYPE=image/png:https://www.visitottawail.com/wp-content/uploads/2025/01/Run-Walk-Jog-FREE-Timed-5k.png
END:VEVENT
BEGIN:VEVENT
DTSTART;TZID=America/Chicago:20260411T090000
DTEND;TZID=America/Chicago:20260411T160000
DTSTAMP:20260424T102846
CREATED:20260130T155222Z
LAST-MODIFIED:20260130T155615Z
UID:10001759-1775898000-1775923200@www.visitottawail.com
SUMMARY:Rusty Halo Mini Market
DESCRIPTION:More details TBA! Parking available in the little town. All vendors will be inside the main Rusty Halo building. Enjoy a unique shopping experience setting in a 1920’s town.
URL:https://www.visitottawail.com/event/rusty-halo-mini-markets/2026-04-11/
LOCATION:Rusty Halo\, 3277 E. 18th Road\, Ottawa\, IL 61350\, Ottawa\, IL\, 61350\, United States
CATEGORIES:Arts,Entertainment,Family,Shopping
ATTACH;FMTTYPE=image/jpeg:https://www.visitottawail.com/wp-content/uploads/2026/01/Ottawa-Visitors-Ctr_20260130_092634-scaled-e1769787998685.jpg
END:VEVENT
BEGIN:VEVENT
DTSTART;TZID=America/Chicago:20260411T100000
DTEND;TZID=America/Chicago:20260411T120000
DTSTAMP:20260424T102846
CREATED:20260319T151956Z
LAST-MODIFIED:20260319T151956Z
UID:10001873-1775901600-1775908800@www.visitottawail.com
SUMMARY:Stacks and Snacks Cinema
DESCRIPTION:We’ll be showing Zootopia 2 (Rated PG with a run time of 108 minutes) and serving popcorn.
URL:https://www.visitottawail.com/event/stacks-and-snacks-cinema/
LOCATION:Reddick Public Library\, 1010 Canal Street\, Ottawa\, IL\, 61350\, United States
CATEGORIES:Entertainment,Family
ATTACH;FMTTYPE=image/jpeg:https://www.visitottawail.com/wp-content/uploads/2025/06/library-door.jpeg
END:VEVENT
BEGIN:VEVENT
DTSTART;TZID=America/Chicago:20260411T133000
DTEND;TZID=America/Chicago:20260411T153000
DTSTAMP:20260424T102846
CREATED:20260319T162618Z
LAST-MODIFIED:20260319T162618Z
UID:10001907-1775914200-1775921400@www.visitottawail.com
SUMMARY:The Loop Group
DESCRIPTION:Learn to knit or crochet in a friendly environment with knowledgeable\npeople.
URL:https://www.visitottawail.com/event/the-loop-group-2/2026-04-11/
LOCATION:Reddick Public Library\, 1010 Canal Street\, Ottawa\, IL\, 61350\, United States
CATEGORIES:Entertainment
ATTACH;FMTTYPE=image/jpeg:https://www.visitottawail.com/wp-content/uploads/2024/09/th.jpg
END:VEVENT
BEGIN:VEVENT
DTSTART;TZID=America/Chicago:20260411T150000
DTEND;TZID=America/Chicago:20260411T160000
DTSTAMP:20260424T102846
CREATED:20260319T150241Z
LAST-MODIFIED:20260319T150241Z
UID:10001867-1775919600-1775923200@www.visitottawail.com
SUMMARY:Girls Who Code Club (Grades 3-5 & 6-12)
DESCRIPTION:Work on a project and explore the business side of video game companies.
URL:https://www.visitottawail.com/event/girls-who-code-club-grades-3-5-6-12-2/
LOCATION:Reddick Public Library\, 1010 Canal Street\, Ottawa\, IL\, 61350\, United States
CATEGORIES:Entertainment,Get Educated
ATTACH;FMTTYPE=image/jpeg:https://www.visitottawail.com/wp-content/uploads/2024/04/reddick-study-rooms-scaled-1.jpeg
END:VEVENT
END:VCALENDAR