BEGIN:VCALENDAR
VERSION:2.0
PRODID:-//Ottawa, IL - The Middle of Everywhere - ECPv6.15.20//NONSGML v1.0//EN
CALSCALE:GREGORIAN
METHOD:PUBLISH
X-ORIGINAL-URL:https://www.visitottawail.com
X-WR-CALDESC:Events for Ottawa, IL - The Middle of Everywhere
REFRESH-INTERVAL;VALUE=DURATION:PT1H
X-Robots-Tag:noindex
X-PUBLISHED-TTL:PT1H
BEGIN:VTIMEZONE
TZID:America/Chicago
BEGIN:DAYLIGHT
TZOFFSETFROM:-0600
TZOFFSETTO:-0500
TZNAME:CDT
DTSTART:20250309T080000
END:DAYLIGHT
BEGIN:STANDARD
TZOFFSETFROM:-0500
TZOFFSETTO:-0600
TZNAME:CST
DTSTART:20251102T070000
END:STANDARD
BEGIN:DAYLIGHT
TZOFFSETFROM:-0600
TZOFFSETTO:-0500
TZNAME:CDT
DTSTART:20260308T080000
END:DAYLIGHT
BEGIN:STANDARD
TZOFFSETFROM:-0500
TZOFFSETTO:-0600
TZNAME:CST
DTSTART:20261101T070000
END:STANDARD
BEGIN:DAYLIGHT
TZOFFSETFROM:-0600
TZOFFSETTO:-0500
TZNAME:CDT
DTSTART:20270314T080000
END:DAYLIGHT
BEGIN:STANDARD
TZOFFSETFROM:-0500
TZOFFSETTO:-0600
TZNAME:CST
DTSTART:20271107T070000
END:STANDARD
END:VTIMEZONE
BEGIN:VEVENT
DTSTART;VALUE=DATE:20260407
DTEND;VALUE=DATE:20260408
DTSTAMP:20260424T104500
CREATED:20260302T172152Z
LAST-MODIFIED:20260302T172152Z
UID:10001822-1775520000-1775606399@www.visitottawail.com
SUMMARY:Escape the Study Room Game-Rescue Peter Rabbit
DESCRIPTION:Are you quick enough to solve the riddles that will free Peter Rabbit ffrom Mr. McGregor’s garden? Help Peter escape and win a prize.
URL:https://www.visitottawail.com/event/escape-the-study-room-game-rescue-peter-rabbit/2026-04-07/
LOCATION:Reddick Public Library\, 1010 Canal Street\, Ottawa\, IL\, 61350\, United States
CATEGORIES:Entertainment
ATTACH;FMTTYPE=image/jpeg:https://www.visitottawail.com/wp-content/uploads/2025/06/library-door.jpeg
END:VEVENT
BEGIN:VEVENT
DTSTART;TZID=America/Chicago:20260407T100000
DTEND;TZID=America/Chicago:20260407T104500
DTSTAMP:20260424T104500
CREATED:20260319T153120Z
LAST-MODIFIED:20260319T153120Z
UID:10001878-1775556000-1775558700@www.visitottawail.com
SUMMARY:Ready\, Set\, Read!
DESCRIPTION:Join us every Tuesday for stories\, songs\, and a craft. Stay and play after the craft if\nyou have time. Find each week’s theme on the event calendar on our website.\nThis event is for children ages 3-5 years.
URL:https://www.visitottawail.com/event/ready-set-read-4/2026-04-07/
LOCATION:Reddick Public Library\, 1010 Canal Street\, Ottawa\, IL\, 61350\, United States
CATEGORIES:Entertainment
ATTACH;FMTTYPE=image/jpeg:https://www.visitottawail.com/wp-content/uploads/2024/04/reddick-library-childrens-books-scaled-1.jpeg
END:VEVENT
BEGIN:VEVENT
DTSTART;TZID=America/Chicago:20260407T140000
DTEND;TZID=America/Chicago:20260407T150000
DTSTAMP:20260424T104500
CREATED:20260319T151651Z
LAST-MODIFIED:20260319T151651Z
UID:10001872-1775570400-1775574000@www.visitottawail.com
SUMMARY:RPLD Community Garden: Salad Garden Planting
DESCRIPTION:Help us start off the 2026 growing season by planting a salad garden in the\nRPLD Community Garden. John Collet\, from the Ottawa Garden Club\, will plant\na variety of leafy greens that will make a delicious salad. This event will be held in\nour Community Garden located on Fulton Street and is open to all ages.
URL:https://www.visitottawail.com/event/rpld-community-garden-salad-garden-planting/
LOCATION:Reddick Public Library\, 1010 Canal Street\, Ottawa\, IL\, 61350\, United States
CATEGORIES:Entertainment,Garden
ATTACH;FMTTYPE=image/jpeg:https://www.visitottawail.com/wp-content/uploads/2024/04/reddick-community-scaled-1.jpeg
END:VEVENT
BEGIN:VEVENT
DTSTART;TZID=America/Chicago:20260407T173000
DTEND;TZID=America/Chicago:20260407T193000
DTSTAMP:20260424T104500
CREATED:20260319T155911Z
LAST-MODIFIED:20260319T155911Z
UID:10001894-1775583000-1775590200@www.visitottawail.com
SUMMARY:Teen Movie Theater
DESCRIPTION:Join us for popcorn and a movie. This month\, we’re watching\nDisney’s animated Hercules. Rated G. For teens in Grades 7-12.
URL:https://www.visitottawail.com/event/teen-movie-theater-2/
LOCATION:Reddick Public Library\, 1010 Canal Street\, Ottawa\, IL\, 61350\, United States
CATEGORIES:Entertainment
ATTACH;FMTTYPE=image/jpeg:https://www.visitottawail.com/wp-content/uploads/2024/04/reddick-community-and-rack-card-holder-scaled-1.jpeg
END:VEVENT
END:VCALENDAR