BEGIN:VCALENDAR
VERSION:2.0
PRODID:-//Ottawa, IL - The Middle of Everywhere - ECPv6.15.20//NONSGML v1.0//EN
CALSCALE:GREGORIAN
METHOD:PUBLISH
X-WR-CALNAME:Ottawa, IL - The Middle of Everywhere
X-ORIGINAL-URL:https://www.visitottawail.com
X-WR-CALDESC:Events for Ottawa, IL - The Middle of Everywhere
REFRESH-INTERVAL;VALUE=DURATION:PT1H
X-Robots-Tag:noindex
X-PUBLISHED-TTL:PT1H
BEGIN:VTIMEZONE
TZID:America/Chicago
BEGIN:DAYLIGHT
TZOFFSETFROM:-0600
TZOFFSETTO:-0500
TZNAME:CDT
DTSTART:20250309T080000
END:DAYLIGHT
BEGIN:STANDARD
TZOFFSETFROM:-0500
TZOFFSETTO:-0600
TZNAME:CST
DTSTART:20251102T070000
END:STANDARD
BEGIN:DAYLIGHT
TZOFFSETFROM:-0600
TZOFFSETTO:-0500
TZNAME:CDT
DTSTART:20260308T080000
END:DAYLIGHT
BEGIN:STANDARD
TZOFFSETFROM:-0500
TZOFFSETTO:-0600
TZNAME:CST
DTSTART:20261101T070000
END:STANDARD
BEGIN:DAYLIGHT
TZOFFSETFROM:-0600
TZOFFSETTO:-0500
TZNAME:CDT
DTSTART:20270314T080000
END:DAYLIGHT
BEGIN:STANDARD
TZOFFSETFROM:-0500
TZOFFSETTO:-0600
TZNAME:CST
DTSTART:20271107T070000
END:STANDARD
END:VTIMEZONE
BEGIN:VEVENT
DTSTART;VALUE=DATE:20260406
DTEND;VALUE=DATE:20260407
DTSTAMP:20260424T102432
CREATED:20260302T172152Z
LAST-MODIFIED:20260302T172152Z
UID:10001821-1775433600-1775519999@www.visitottawail.com
SUMMARY:Escape the Study Room Game-Rescue Peter Rabbit
DESCRIPTION:Are you quick enough to solve the riddles that will free Peter Rabbit ffrom Mr. McGregor’s garden? Help Peter escape and win a prize.
URL:https://www.visitottawail.com/event/escape-the-study-room-game-rescue-peter-rabbit/2026-04-06/
LOCATION:Reddick Public Library\, 1010 Canal Street\, Ottawa\, IL\, 61350\, United States
CATEGORIES:Entertainment
ATTACH;FMTTYPE=image/jpeg:https://www.visitottawail.com/wp-content/uploads/2025/06/library-door.jpeg
END:VEVENT
BEGIN:VEVENT
DTSTART;TZID=America/Chicago:20260406T103000
DTEND;TZID=America/Chicago:20260406T113000
DTSTAMP:20260424T102432
CREATED:20260319T153858Z
LAST-MODIFIED:20260319T153858Z
UID:10001887-1775471400-1775475000@www.visitottawail.com
SUMMARY:Story Time @ the Woodland
DESCRIPTION:Join us at Nell’s Woodland for a naturethemed story time. Enjoy stories\, music\,\nand a craft followed by a short hike through the park\, weather permitting.\nRegistration is required. Please register online\, in person at the library\, or call\n(815) 434-0509.
URL:https://www.visitottawail.com/event/story-time-the-woodland/
LOCATION:Nell’s Woodland\, 2000 Alexis Ave.\, Ottawa\, IL\, 61350\, United States
CATEGORIES:Entertainment
ATTACH;FMTTYPE=image/webp:https://www.visitottawail.com/wp-content/uploads/2024/04/Nells-bridge.webp
END:VEVENT
BEGIN:VEVENT
DTSTART;TZID=America/Chicago:20260406T173000
DTEND;TZID=America/Chicago:20260406T183000
DTSTAMP:20260424T102432
CREATED:20260319T150958Z
LAST-MODIFIED:20260319T150958Z
UID:10001870-1775496600-1775500200@www.visitottawail.com
SUMMARY:Poetry and Tea (Grades 5-6)
DESCRIPTION:Celebrate National Poetry Month! Try your hand at writing your own poem\nwhile enjoying tea (and juice) and snacks. Please register online\, in\nperson at the library\, or call 815-434-0509.
URL:https://www.visitottawail.com/event/poetry-and-tea-grades-5-6/
LOCATION:Reddick Public Library\, 1010 Canal Street\, Ottawa\, IL\, 61350\, United States
CATEGORIES:Entertainment
ATTACH;FMTTYPE=image/jpeg:https://www.visitottawail.com/wp-content/uploads/2025/06/library-door.jpeg
END:VEVENT
END:VCALENDAR