BEGIN:VCALENDAR
VERSION:2.0
PRODID:-//Ottawa, IL - The Middle of Everywhere - ECPv6.15.20//NONSGML v1.0//EN
CALSCALE:GREGORIAN
METHOD:PUBLISH
X-WR-CALNAME:Ottawa, IL - The Middle of Everywhere
X-ORIGINAL-URL:https://www.visitottawail.com
X-WR-CALDESC:Events for Ottawa, IL - The Middle of Everywhere
REFRESH-INTERVAL;VALUE=DURATION:PT1H
X-Robots-Tag:noindex
X-PUBLISHED-TTL:PT1H
BEGIN:VTIMEZONE
TZID:America/Chicago
BEGIN:DAYLIGHT
TZOFFSETFROM:-0600
TZOFFSETTO:-0500
TZNAME:CDT
DTSTART:20250309T080000
END:DAYLIGHT
BEGIN:STANDARD
TZOFFSETFROM:-0500
TZOFFSETTO:-0600
TZNAME:CST
DTSTART:20251102T070000
END:STANDARD
BEGIN:DAYLIGHT
TZOFFSETFROM:-0600
TZOFFSETTO:-0500
TZNAME:CDT
DTSTART:20260308T080000
END:DAYLIGHT
BEGIN:STANDARD
TZOFFSETFROM:-0500
TZOFFSETTO:-0600
TZNAME:CST
DTSTART:20261101T070000
END:STANDARD
BEGIN:DAYLIGHT
TZOFFSETFROM:-0600
TZOFFSETTO:-0500
TZNAME:CDT
DTSTART:20270314T080000
END:DAYLIGHT
BEGIN:STANDARD
TZOFFSETFROM:-0500
TZOFFSETTO:-0600
TZNAME:CST
DTSTART:20271107T070000
END:STANDARD
END:VTIMEZONE
BEGIN:VEVENT
DTSTART;VALUE=DATE:20260402
DTEND;VALUE=DATE:20260403
DTSTAMP:20260424T102404
CREATED:20260302T172152Z
LAST-MODIFIED:20260302T172152Z
UID:10001817-1775088000-1775174399@www.visitottawail.com
SUMMARY:Escape the Study Room Game-Rescue Peter Rabbit
DESCRIPTION:Are you quick enough to solve the riddles that will free Peter Rabbit ffrom Mr. McGregor’s garden? Help Peter escape and win a prize.
URL:https://www.visitottawail.com/event/escape-the-study-room-game-rescue-peter-rabbit/2026-04-02/
LOCATION:Reddick Public Library\, 1010 Canal Street\, Ottawa\, IL\, 61350\, United States
CATEGORIES:Entertainment
ATTACH;FMTTYPE=image/jpeg:https://www.visitottawail.com/wp-content/uploads/2025/06/library-door.jpeg
END:VEVENT
BEGIN:VEVENT
DTSTART;TZID=America/Chicago:20260402T130000
DTEND;TZID=America/Chicago:20260402T134500
DTSTAMP:20260424T102404
CREATED:20260319T154118Z
LAST-MODIFIED:20260319T154118Z
UID:10001888-1775134800-1775137500@www.visitottawail.com
SUMMARY:Tinker Time: Slime and Goo (Preschool- Grade 2)
DESCRIPTION:Get sticky at the library while you make different types of slime and goo!
URL:https://www.visitottawail.com/event/tinker-time-slime-and-goo-preschool-grade-2/
LOCATION:Reddick Public Library\, 1010 Canal Street\, Ottawa\, IL\, 61350\, United States
CATEGORIES:Entertainment
ATTACH;FMTTYPE=image/jpeg:https://www.visitottawail.com/wp-content/uploads/2024/04/reddick-library-scaled-1.jpeg
END:VEVENT
END:VCALENDAR